BEGIN:VCALENDAR
VERSION:2.0
PRODID:-//Region 10 Colorado - ECPv6.15.20//NONSGML v1.0//EN
CALSCALE:GREGORIAN
METHOD:PUBLISH
X-ORIGINAL-URL:https://region10.net
X-WR-CALDESC:Events for Region 10 Colorado
REFRESH-INTERVAL;VALUE=DURATION:PT1H
X-Robots-Tag:noindex
X-PUBLISHED-TTL:PT1H
BEGIN:VTIMEZONE
TZID:America/Denver
BEGIN:DAYLIGHT
TZOFFSETFROM:-0700
TZOFFSETTO:-0600
TZNAME:MDT
DTSTART:20210314T090000
END:DAYLIGHT
BEGIN:STANDARD
TZOFFSETFROM:-0600
TZOFFSETTO:-0700
TZNAME:MST
DTSTART:20211107T080000
END:STANDARD
BEGIN:DAYLIGHT
TZOFFSETFROM:-0700
TZOFFSETTO:-0600
TZNAME:MDT
DTSTART:20220313T090000
END:DAYLIGHT
BEGIN:STANDARD
TZOFFSETFROM:-0600
TZOFFSETTO:-0700
TZNAME:MST
DTSTART:20221106T080000
END:STANDARD
BEGIN:DAYLIGHT
TZOFFSETFROM:-0700
TZOFFSETTO:-0600
TZNAME:MDT
DTSTART:20230312T090000
END:DAYLIGHT
BEGIN:STANDARD
TZOFFSETFROM:-0600
TZOFFSETTO:-0700
TZNAME:MST
DTSTART:20231105T080000
END:STANDARD
END:VTIMEZONE
BEGIN:VEVENT
DTSTART;TZID=America/Denver:20220719T090000
DTEND;TZID=America/Denver:20220721T120000
DTSTAMP:20260419T073808
CREATED:20220623T162902Z
LAST-MODIFIED:20220623T162902Z
UID:10000072-1658221200-1658404800@region10.net
SUMMARY:Build Your Business Plan In a Day! (2-part series)
DESCRIPTION:Build Your Business Plan In a Day! (2-part series)\n\nA business plan can help you get funding\, bring in new business partners\, or serve as a roadmap for each stage of starting and managing your business. During this 2-part class\, we will guide you in creating your own business plan. We will cover all the elements of writing a plan including the executive summary\, company description\, market analysis\, competitive analysis\, S.W.O.T. analysis\, service or product line\, marketing plan\, operations\, management\, and financial projections. Bring your laptop or electronic notepad. We will have one short break. \nPart 1- Tues\, July 19\, 9 a.m.- noon \nPart 2- Thurs\, July 21\, 9 a.m.-noon \n\nSpeaker(s): Susan Bony is a member of the West Central SBDC staff and a long-time consultant for the Colorado SBDC focusing on business start-up and company development and growth. Her education and experience working for both small and large multi-national corporations with a unique background in banking\, teaching and market development provide the perfect combination to support writing business plans. \nWe will provide you with a text book at the first class. \n  \nBuild Your Business Plan in a Day\nwith Susan Bony \nTues\, July 19\, 9 a.m.- noon\, Thurs\, July 21\, 9 a.m.-noon  \nOnline\, $85 \nREGISTER TODAY!
URL:https://region10.net/event/build-your-business-plan-in-a-day-2-part-series/
LOCATION:Online\, 145 S Cascade Avenue\, Montrose\, CO 81401\, Montrose\, CO\, 81401
CATEGORIES:for business
ATTACH;FMTTYPE=image/jpeg:https://region10.net/wp-content/uploads/2022/05/Business-plan-in-a-day-2-small.jpg
ORGANIZER;CN="West Central SBDC":MAILTO:nancy@region10.net
END:VEVENT
END:VCALENDAR