BEGIN:VCALENDAR
VERSION:2.0
PRODID:-//Region 10 Colorado - ECPv6.15.20//NONSGML v1.0//EN
CALSCALE:GREGORIAN
METHOD:PUBLISH
X-WR-CALNAME:Region 10 Colorado
X-ORIGINAL-URL:https://region10.net
X-WR-CALDESC:Events for Region 10 Colorado
REFRESH-INTERVAL;VALUE=DURATION:PT1H
X-Robots-Tag:noindex
X-PUBLISHED-TTL:PT1H
BEGIN:VTIMEZONE
TZID:America/Denver
BEGIN:DAYLIGHT
TZOFFSETFROM:-0700
TZOFFSETTO:-0600
TZNAME:MDT
DTSTART:20220313T090000
END:DAYLIGHT
BEGIN:STANDARD
TZOFFSETFROM:-0600
TZOFFSETTO:-0700
TZNAME:MST
DTSTART:20221106T080000
END:STANDARD
BEGIN:DAYLIGHT
TZOFFSETFROM:-0700
TZOFFSETTO:-0600
TZNAME:MDT
DTSTART:20230312T090000
END:DAYLIGHT
BEGIN:STANDARD
TZOFFSETFROM:-0600
TZOFFSETTO:-0700
TZNAME:MST
DTSTART:20231105T080000
END:STANDARD
BEGIN:DAYLIGHT
TZOFFSETFROM:-0700
TZOFFSETTO:-0600
TZNAME:MDT
DTSTART:20240310T090000
END:DAYLIGHT
BEGIN:STANDARD
TZOFFSETFROM:-0600
TZOFFSETTO:-0700
TZNAME:MST
DTSTART:20241103T080000
END:STANDARD
END:VTIMEZONE
BEGIN:VEVENT
DTSTART;TZID=America/Denver:20231107T120000
DTEND;TZID=America/Denver:20231107T140000
DTSTAMP:20260421T034115
CREATED:20231016T204614Z
LAST-MODIFIED:20231016T204614Z
UID:10000120-1699358400-1699365600@region10.net
SUMMARY:SmartStart: How to Start a Business (online)
DESCRIPTION:Thinking about starting a business in Western Colorado? Starting a business takes more than being great at something or having a good idea. Come and learn what is required by state and local officials to get started and the ins and outs of running a successful business. This 2-hour webinar provides an overview of everything you need to know to start and grow your business. \nTopics include: \n* How running a business is different than being an employee; \n* Things to consider as a business owner; \n* Trade name search; \n* Legal structure selection; \n* State registration; \n* Licensing requirements; \n* Business plan over view; \n* Marketing for your Target market(s); \n* Market research; \n* Financing options; and \n* Human Resources \n  \nThis webinar will be presented on Zoom. Please register to receive the link to join. \nSpeaker(s): Susan Bony\, MBA \n  \nSmart Start: How to Start a Business\nwith Susan Bony\nTuesday\, November 7th\, 12pm-2pm\nOnline\, $30 \nREGISTER TODAY!
URL:https://region10.net/event/smartstart-how-to-start-a-business-online-5/
LOCATION:Online
CATEGORIES:for business
ATTACH;FMTTYPE=image/jpeg:https://region10.net/wp-content/uploads/2023/02/R10_Social-Topic-1200x62811-1.jpg
ORGANIZER;CN="West Central SBDC":MAILTO:nancy@region10.net
END:VEVENT
END:VCALENDAR