BEGIN:VCALENDAR
VERSION:2.0
PRODID:-//Region 10 Colorado - ECPv6.15.20//NONSGML v1.0//EN
CALSCALE:GREGORIAN
METHOD:PUBLISH
X-WR-CALNAME:Region 10 Colorado
X-ORIGINAL-URL:https://region10.net
X-WR-CALDESC:Events for Region 10 Colorado
REFRESH-INTERVAL;VALUE=DURATION:PT1H
X-Robots-Tag:noindex
X-PUBLISHED-TTL:PT1H
BEGIN:VTIMEZONE
TZID:America/Denver
BEGIN:DAYLIGHT
TZOFFSETFROM:-0700
TZOFFSETTO:-0600
TZNAME:MDT
DTSTART:20230312T090000
END:DAYLIGHT
BEGIN:STANDARD
TZOFFSETFROM:-0600
TZOFFSETTO:-0700
TZNAME:MST
DTSTART:20231105T080000
END:STANDARD
BEGIN:DAYLIGHT
TZOFFSETFROM:-0700
TZOFFSETTO:-0600
TZNAME:MDT
DTSTART:20240310T090000
END:DAYLIGHT
BEGIN:STANDARD
TZOFFSETFROM:-0600
TZOFFSETTO:-0700
TZNAME:MST
DTSTART:20241103T080000
END:STANDARD
BEGIN:DAYLIGHT
TZOFFSETFROM:-0700
TZOFFSETTO:-0600
TZNAME:MDT
DTSTART:20250309T090000
END:DAYLIGHT
BEGIN:STANDARD
TZOFFSETFROM:-0600
TZOFFSETTO:-0700
TZNAME:MST
DTSTART:20251102T080000
END:STANDARD
END:VTIMEZONE
BEGIN:VEVENT
DTSTART;TZID=America/Denver:20240109T120000
DTEND;TZID=America/Denver:20240109T140000
DTSTAMP:20260421T064033
CREATED:20231219T215749Z
LAST-MODIFIED:20231219T215831Z
UID:10000036-1704801600-1704808800@region10.net
SUMMARY:SmartStart: How to Start a Business (online)
DESCRIPTION:Thinking about starting a business in Western Colorado? Starting a business takes more than being great at something or having a good idea. Come and learn what is required by state and local officials to get started and the ins and outs of running a successful business. This 2-hour webinar provides an overview of everything you need to know to start and grow your business. \nTopics include: \n* How running a business is different than being an employee; \n* Things to consider as a business owner; \n* Trade name search; \n* Legal structure selection; \n* State registration; \n* Licensing requirements; \n* Business plan over view; \n* Marketing for your Target market(s); \n* Market research; \n* Financing options; and \n* Human Resources \n  \nThis webinar will be presented on Zoom. Please register to receive the link to join. \nSpeaker(s): Susan Bony\, MBA \nCo-Sponsor(s): Region 10\, City of Montrose\, Town of Telluride CCAASE \n  \nSmart Start: How to Start a Business\nwith Susan Bony\nTuesday\, January 9th\, 12:00 pm – 2:00 pm\nOnline\, $30 \nREGISTER TODAY!
URL:https://region10.net/event/smartstart-how-to-start-a-business-online-6/
LOCATION:Online\, 145 S Cascade Avenue\, Montrose\, CO 81401\, Montrose\, CO\, 81401
CATEGORIES:for business
ATTACH;FMTTYPE=image/jpeg:https://region10.net/wp-content/uploads/2022/07/R10_Calendar-Startup-1.jpg
ORGANIZER;CN="West Central SBDC":MAILTO:nancy@region10.net
END:VEVENT
BEGIN:VEVENT
DTSTART;TZID=America/Denver:20240124T090000
DTEND;TZID=America/Denver:20240124T160000
DTSTAMP:20260421T064033
CREATED:20231219T234950Z
LAST-MODIFIED:20231219T234950Z
UID:10000038-1706086800-1706112000@region10.net
SUMMARY:Business Plan In A Day!
DESCRIPTION:A business plan can help you get funding\, bring in new business partners\, or serve as a roadmap for each stage of starting and managing your business. During this full-day class\, we will guide you in creating your own business plan. We will cover all the elements of writing a plan including the executive summary\, company description\, market analysis\, competitive analysis\, S.W.O.T. analysis\, service or product line\, marketing plan\, operations\, management\, and financial projections. Bring your laptop or electronic notepad. We will have two short breaks and a working lunch (lunch and snacks provided). \n\nSpeaker(s): Susan Bony is a member of the West Central SBDC staff and a long-time consultant for the Colorado SBDC focusing on business start-up and company development and growth. Her education and experience working for both small and large multi-national corporations with a unique background in banking\, teaching and market development provide the perfect combination to support writing business plans. \n  \nBusiness Plan in a Day\nwith Susan Bony\nWednesday\, January 24th\, 9:00 am – 4:00 pm\nin person in Montrose\, $75 \nREGISTER TODAY!
URL:https://region10.net/event/business-plan-in-a-day-5/
LOCATION:Region 10\, 145 S Cascade Avenue\, Montrose\, CO 81401\, Montrose\, CO\, 81401\, US
CATEGORIES:for business
ATTACH;FMTTYPE=image/jpeg:https://region10.net/wp-content/uploads/2022/07/R10_Calendar-Startup-1.jpg
ORGANIZER;CN="West Central SBDC":MAILTO:nancy@region10.net
END:VEVENT
END:VCALENDAR