BEGIN:VCALENDAR
VERSION:2.0
PRODID:-//Region 10 Colorado - ECPv6.15.20//NONSGML v1.0//EN
CALSCALE:GREGORIAN
METHOD:PUBLISH
X-ORIGINAL-URL:https://region10.net
X-WR-CALDESC:Events for Region 10 Colorado
REFRESH-INTERVAL;VALUE=DURATION:PT1H
X-Robots-Tag:noindex
X-PUBLISHED-TTL:PT1H
BEGIN:VTIMEZONE
TZID:America/Denver
BEGIN:DAYLIGHT
TZOFFSETFROM:-0700
TZOFFSETTO:-0600
TZNAME:MDT
DTSTART:20230312T090000
END:DAYLIGHT
BEGIN:STANDARD
TZOFFSETFROM:-0600
TZOFFSETTO:-0700
TZNAME:MST
DTSTART:20231105T080000
END:STANDARD
BEGIN:DAYLIGHT
TZOFFSETFROM:-0700
TZOFFSETTO:-0600
TZNAME:MDT
DTSTART:20240310T090000
END:DAYLIGHT
BEGIN:STANDARD
TZOFFSETFROM:-0600
TZOFFSETTO:-0700
TZNAME:MST
DTSTART:20241103T080000
END:STANDARD
BEGIN:DAYLIGHT
TZOFFSETFROM:-0700
TZOFFSETTO:-0600
TZNAME:MDT
DTSTART:20250309T090000
END:DAYLIGHT
BEGIN:STANDARD
TZOFFSETFROM:-0600
TZOFFSETTO:-0700
TZNAME:MST
DTSTART:20251102T080000
END:STANDARD
END:VTIMEZONE
BEGIN:VEVENT
DTSTART;TZID=America/Denver:20240208T160000
DTEND;TZID=America/Denver:20240208T180000
DTSTAMP:20260422T005648
CREATED:20240115T164507Z
LAST-MODIFIED:20240115T164507Z
UID:10000041-1707408000-1707415200@region10.net
SUMMARY:SmartStart: How to Start a Business (online)
DESCRIPTION:Thinking about starting a business in Western Colorado? Starting a business takes more than being great at something or having a good idea. Come and learn what is required by state and local officials to get started and the ins and outs of running a successful business. This 2-hour webinar provides an overview of everything you need to know to start and grow your business. Topics include: * How running a business is different than being an employee; * Things to consider as a business owner; * Trade name search; * Legal structure selection; * State registration; * Licensing requirements; * Business plan over view; * Marketing for your Target market(s); * Market research; * Financing options; * Enterprise Zone Tax Credits; and * Human Resources This webinar will be presented on Zoom. Please register to receive the link to join. \nSpeaker(s): Susan Bony\, MBA \nCo-Sponsor(s): Region 10\, City of Montrose\, Town of Telluride CCAASE \n  \nSmart Start: How to Start a Business\nwith Susan Bony\nThursday\, February 8th\, 4:00 pm – 6:00 pm\nOnline\, $30 \nREGISTER TODAY!
URL:https://region10.net/event/smartstart-how-to-start-a-business-online-7/
LOCATION:Online\, 145 S Cascade Avenue\, Montrose\, CO 81401\, Montrose\, CO\, 81401
CATEGORIES:for business
ATTACH;FMTTYPE=image/jpeg:https://region10.net/wp-content/uploads/2022/07/R10_Calendar-Startup.jpg
ORGANIZER;CN="West Central SBDC":MAILTO:nancy@region10.net
END:VEVENT
BEGIN:VEVENT
DTSTART;TZID=America/Denver:20240221T120000
DTEND;TZID=America/Denver:20240221T130000
DTSTAMP:20260422T005648
CREATED:20240115T165608Z
LAST-MODIFIED:20240115T165608Z
UID:10000125-1708516800-1708520400@region10.net
SUMMARY:Let's Talk: Business Insurance
DESCRIPTION:This LIVE webinar serves to create an open forum of Q&A\, with interactive conversation among participants and our SBDC Staff and Consultants – it will not be recorded! \nIn this session: Business Insurance What does an insurance policy do to protect your business and you as the owner? Is it required and how do you find the right one for your business? Join us to learn more and ask your burning questions about insurance! \nMeet Our Facilitator Alex Lammers\nAlex is the owner of Lammers Insurance Agency in Hotchkiss\, CO. \nLet’s Talk: Business Insurance\nwith Alex Lammers\nWednesday\, February 21\, 12:00 pm – 1:00 pm\nOnline\, no cost \nREGISTER TODAY!
URL:https://region10.net/event/lets-talk-business-insurance/
LOCATION:Online\, 145 S Cascade Avenue\, Montrose\, CO 81401\, Montrose\, CO\, 81401
CATEGORIES:for business
ATTACH;FMTTYPE=image/jpeg:https://region10.net/wp-content/uploads/2022/10/R10_Email-Program-Management.jpg
END:VEVENT
END:VCALENDAR