BEGIN:VCALENDAR
VERSION:2.0
PRODID:-//Region 10 Colorado - ECPv6.15.20//NONSGML v1.0//EN
CALSCALE:GREGORIAN
METHOD:PUBLISH
X-WR-CALNAME:Region 10 Colorado
X-ORIGINAL-URL:https://region10.net
X-WR-CALDESC:Events for Region 10 Colorado
REFRESH-INTERVAL;VALUE=DURATION:PT1H
X-Robots-Tag:noindex
X-PUBLISHED-TTL:PT1H
BEGIN:VTIMEZONE
TZID:America/Denver
BEGIN:DAYLIGHT
TZOFFSETFROM:-0700
TZOFFSETTO:-0600
TZNAME:MDT
DTSTART:20230312T090000
END:DAYLIGHT
BEGIN:STANDARD
TZOFFSETFROM:-0600
TZOFFSETTO:-0700
TZNAME:MST
DTSTART:20231105T080000
END:STANDARD
BEGIN:DAYLIGHT
TZOFFSETFROM:-0700
TZOFFSETTO:-0600
TZNAME:MDT
DTSTART:20240310T090000
END:DAYLIGHT
BEGIN:STANDARD
TZOFFSETFROM:-0600
TZOFFSETTO:-0700
TZNAME:MST
DTSTART:20241103T080000
END:STANDARD
BEGIN:DAYLIGHT
TZOFFSETFROM:-0700
TZOFFSETTO:-0600
TZNAME:MDT
DTSTART:20250309T090000
END:DAYLIGHT
BEGIN:STANDARD
TZOFFSETFROM:-0600
TZOFFSETTO:-0700
TZNAME:MST
DTSTART:20251102T080000
END:STANDARD
END:VTIMEZONE
BEGIN:VEVENT
DTSTART;TZID=America/Denver:20241016T110000
DTEND;TZID=America/Denver:20241016T120000
DTSTAMP:20260421T124751
CREATED:20240917T200343Z
LAST-MODIFIED:20240917T200343Z
UID:10000176-1729076400-1729080000@region10.net
SUMMARY:10 Things You Need to Know Before Starting a Business
DESCRIPTION:This LIVE webinar serves to create an open forum of Q&A\, with interactive conversation among participants and our SBDC Staff and Consultants – it will not be recorded! \nIn this session: 10 Things You Need to Know Before Starting a Business New year\, new business? If you are considering starting a new business this year\, join us to learn more about what it is required of business owners. It’s not just about having the startup money or having a product that all your friends and family love. Do you have a plan and do you have what it takes to be an owner/entrepreneur? \nThere will be staff consultants from three Western Colorado SBDC centers present to help answer your questions and connect with you to help get your business started! \nMeet Our Facilitator: Callie Koch\nCallie is program manager of the West Central SBDC and a former small business owner. \n  \n10 Things Your Need to Know Before Starting a Business\nwith Callie Koch\nWednesday\, October 16th\, 11:00am-12:00am\nOnline\, no cost \nREGISTER TODAY!
URL:https://region10.net/event/10-things-you-need-to-know-before-starting-a-business/
LOCATION:Online
CATEGORIES:for business
ATTACH;FMTTYPE=image/jpeg:https://region10.net/wp-content/uploads/2022/10/R10_Email-Program-Management.jpg
ORGANIZER;CN="West Central SBDC":MAILTO:nancy@region10.net
END:VEVENT
BEGIN:VEVENT
DTSTART;TZID=America/Denver:20241022T120000
DTEND;TZID=America/Denver:20241022T130000
DTSTAMP:20260421T124751
CREATED:20240917T201023Z
LAST-MODIFIED:20240917T201023Z
UID:10000177-1729598400-1729602000@region10.net
SUMMARY:How to Launch Your Business: A Comprehensive Checklist
DESCRIPTION:How to Launch Your Business: A Comprehensive Checklist\nThinking about starting a business in Colorado? Come and learn what is required by state and local officials to get started. This class is for those who have already decided that entrepreneurship is right for them as well as what their business idea is and the feasibility of it. We will work our way through a concrete and concise checklist for the logistics of how to get your business up and running and where to go from there! \nTopics include: \n* Trade name search; \n* Legal structure selection; \n* State registration; \n* Licensing requirements; \n* Business plan over view; \n* Enterprise Zone Tax Credits; and \n* Human Resources \n  \nThis class is part of the Startup Track\, an SBDC webinar series that begins with idea validation and ends with strategic business planning and next steps for profitability and growth. \nThis webinar will be presented on Zoom. Please register to receive the link to join. \nSpeaker(s): Callie Koch\, West Central SBDC Program Manager \nHow to Launch Your Business: A Comprehensive Checklist\nwith Callie Koch\nTuesday\, October 22nd\, 12:00pm – 1:00pm\nOnline\, No Cost \nREGISTER TODAY!
URL:https://region10.net/event/how-to-launch-your-business-a-comprehensive-checklist/
LOCATION:Online
CATEGORIES:for business
ATTACH;FMTTYPE=image/jpeg:https://region10.net/wp-content/uploads/2024/02/R10_Email-Topic-Startup.jpg
ORGANIZER;CN="West Central SBDC":MAILTO:nancy@region10.net
END:VEVENT
BEGIN:VEVENT
DTSTART;TZID=America/Denver:20241026T090000
DTEND;TZID=America/Denver:20241026T160000
DTSTAMP:20260421T124751
CREATED:20240917T202627Z
LAST-MODIFIED:20240917T202627Z
UID:10000180-1729933200-1729958400@region10.net
SUMMARY:Business Plan In A Day!
DESCRIPTION:A business plan can help you get funding\, bring in new business partners\, or serve as a roadmap for each stage of starting and managing your business. During this two-part online class\, we will guide you in creating your own business plan. We will cover all the elements of writing a plan including the executive summary\, company description\, market analysis\, competitive analysis\, S.W.O.T. analysis\, service or product line\, marketing plan\, operations\, management\, and financial projections. \n\nThis class will be held in person at the Business Cultivator in Olathe. Water and snacks will be provided but please bring your own lunch. \nIf you have questions\, please contact Callie Koch: callie@region10.net \n\n\nSpeaker(s): Ann Correll \nFee: $ 75.00 \n  \nBusiness Plan in a Day\nwith Ann Correll\nSaturday\, October 26th\, 9:00am-4:00pm\nOnline\, $75 \nREGISTER TODAY!
URL:https://region10.net/event/business-plan-in-a-day-8/
LOCATION:Online
CATEGORIES:for business
ATTACH;FMTTYPE=image/jpeg:https://region10.net/wp-content/uploads/2024/02/R10_Email-Topic-Startup.jpg
ORGANIZER;CN="West Central SBDC":MAILTO:nancy@region10.net
END:VEVENT
END:VCALENDAR