BEGIN:VCALENDAR
VERSION:2.0
PRODID:-//Region 10 Colorado - ECPv6.15.20//NONSGML v1.0//EN
CALSCALE:GREGORIAN
METHOD:PUBLISH
X-ORIGINAL-URL:https://region10.net
X-WR-CALDESC:Events for Region 10 Colorado
REFRESH-INTERVAL;VALUE=DURATION:PT1H
X-Robots-Tag:noindex
X-PUBLISHED-TTL:PT1H
BEGIN:VTIMEZONE
TZID:America/Denver
BEGIN:DAYLIGHT
TZOFFSETFROM:-0700
TZOFFSETTO:-0600
TZNAME:MDT
DTSTART:20240310T090000
END:DAYLIGHT
BEGIN:STANDARD
TZOFFSETFROM:-0600
TZOFFSETTO:-0700
TZNAME:MST
DTSTART:20241103T080000
END:STANDARD
BEGIN:DAYLIGHT
TZOFFSETFROM:-0700
TZOFFSETTO:-0600
TZNAME:MDT
DTSTART:20250309T090000
END:DAYLIGHT
BEGIN:STANDARD
TZOFFSETFROM:-0600
TZOFFSETTO:-0700
TZNAME:MST
DTSTART:20251102T080000
END:STANDARD
BEGIN:DAYLIGHT
TZOFFSETFROM:-0700
TZOFFSETTO:-0600
TZNAME:MDT
DTSTART:20260308T090000
END:DAYLIGHT
BEGIN:STANDARD
TZOFFSETFROM:-0600
TZOFFSETTO:-0700
TZNAME:MST
DTSTART:20261101T080000
END:STANDARD
END:VTIMEZONE
BEGIN:VEVENT
DTSTART;TZID=America/Denver:20250205T123000
DTEND;TZID=America/Denver:20250205T133000
DTSTAMP:20260421T064725
CREATED:20250116T184112Z
LAST-MODIFIED:20250117T155230Z
UID:10000199-1738758600-1738762200@region10.net
SUMMARY:Legal Considerations for Starting a Business: Formation Fundamentals
DESCRIPTION:Legal Considerations for Starting a Business\n\n\n\nWhat legal matters should you plan to work through in the process of starting a business? Many people start their business unaware of the legal decisions that must be made when establishing it and the potential liabilities that should be mitigated. \nThis course covers the fundamental issues you should consider\, and steps involved in forming a business entity. Topics covered include what to consider when choosing an entity type\, how a business entity can shield you from personal liability\, what governing documents you need and what those documents should contain\, how to procure an EIN\, and basic tax considerations. \nMeet Our Facilitator: William Edwards\nWe will be joined by Colorado attorney\, William Edwards\, to discuss what to know about the legal aspects of starting a business. Will is a business attorney with offices in Carbondale and Gunnison\, Colorado. Will advises a wide range of business in his practice\, including startups\, family-owned businesses\, and privately-held\, mid-market businesses operating in multiple states. His practice focuses on business formation\, contracts\, M&A/transactions\, real estate\, and fractional general counsel services. \n  \n\nSpeaker(s): William Edwards \nCallie Koch – West Central SBDC \nCo-Sponsor(s): Region 10\, The Business Cultivator\, West Central SBDC \n\n\nFee: No Cost \n\nLegal Considerations for Starting a Business: Formation Fundamentals\nwith William Edwards\nWednesday\, February 5th\, 12:30-1:30PM\nOnline\, no cost \nREGISTER TODAY!
URL:https://region10.net/event/legal-considerations-for-starting-a-business/
LOCATION:Online\, 145 S Cascade Avenue\, Montrose\, CO 81401\, Montrose\, CO\, 81401
CATEGORIES:for business
ATTACH;FMTTYPE=image/jpeg:https://region10.net/wp-content/uploads/2024/02/R10_Email-Topic-Startup.jpg
ORGANIZER;CN="West Central SBDC":MAILTO:nancy@region10.net
END:VEVENT
BEGIN:VEVENT
DTSTART;TZID=America/Denver:20250219T090000
DTEND;TZID=America/Denver:20250219T100000
DTSTAMP:20260421T064725
CREATED:20250116T184731Z
LAST-MODIFIED:20250116T184731Z
UID:10000200-1739955600-1739959200@region10.net
SUMMARY:How to Launch Your Business: A Comprehensive Checklist
DESCRIPTION:How to Launch Your Business: A Comprehensive Checklist\n\n\nThinking about starting a business in Colorado? Join us to learn what is required by state and local officials to get started. This class is for those who have already decided that entrepreneurship is right for them as well as determined their business idea and the feasibility of it. We will work our way through a concrete and concise checklist for the logistics of how to get your business up and running and where to go from there! \n  \nTopics include: \n* Trade name search \n* Legal structure selection \n* State registration \n* Licensing requirements \n* Business plan over view \n* Enterprise Zone Tax Credits \n* Human Resources \n  \nThis class is part of the Startup Track\, an SBDC webinar series that begins with idea validation and ends with strategic business planning and next steps for profitability and growth. This webinar will be presented on Zoom. Please register to receive the link to join. \n  \nSpeaker(s): Callie Koch\, West Central SBDC Program Manager \nCo-Sponsor(s): Region 10\, City of Montrose\, Town of Telluride CCAASE \n\nFee: No Cost \n\nHow to Launch Your Business: A Comprehensive Checklist\nwith Callie Koch\nWednesday\, February 19th\, 9:00-10:00AM\nOnline\, no cost \nREGISTER TODAY!
URL:https://region10.net/event/how-to-launch-your-business-a-comprehensive-checklist-4/
LOCATION:Online
CATEGORIES:for business
ATTACH;FMTTYPE=image/jpeg:https://region10.net/wp-content/uploads/2024/02/R10_Email-Topic-Startup.jpg
ORGANIZER;CN="West Central SBDC":MAILTO:nancy@region10.net
END:VEVENT
END:VCALENDAR