BEGIN:VCALENDAR
VERSION:2.0
PRODID:-//Region 10 Colorado - ECPv6.15.20//NONSGML v1.0//EN
CALSCALE:GREGORIAN
METHOD:PUBLISH
X-ORIGINAL-URL:https://region10.net
X-WR-CALDESC:Events for Region 10 Colorado
REFRESH-INTERVAL;VALUE=DURATION:PT1H
X-Robots-Tag:noindex
X-PUBLISHED-TTL:PT1H
BEGIN:VTIMEZONE
TZID:America/Denver
BEGIN:DAYLIGHT
TZOFFSETFROM:-0700
TZOFFSETTO:-0600
TZNAME:MDT
DTSTART:20240310T090000
END:DAYLIGHT
BEGIN:STANDARD
TZOFFSETFROM:-0600
TZOFFSETTO:-0700
TZNAME:MST
DTSTART:20241103T080000
END:STANDARD
BEGIN:DAYLIGHT
TZOFFSETFROM:-0700
TZOFFSETTO:-0600
TZNAME:MDT
DTSTART:20250309T090000
END:DAYLIGHT
BEGIN:STANDARD
TZOFFSETFROM:-0600
TZOFFSETTO:-0700
TZNAME:MST
DTSTART:20251102T080000
END:STANDARD
BEGIN:DAYLIGHT
TZOFFSETFROM:-0700
TZOFFSETTO:-0600
TZNAME:MDT
DTSTART:20260308T090000
END:DAYLIGHT
BEGIN:STANDARD
TZOFFSETFROM:-0600
TZOFFSETTO:-0700
TZNAME:MST
DTSTART:20261101T080000
END:STANDARD
END:VTIMEZONE
BEGIN:VEVENT
DTSTART;TZID=America/Denver:20250617T120000
DTEND;TZID=America/Denver:20250617T130000
DTSTAMP:20260421T033500
CREATED:20250506T212158Z
LAST-MODIFIED:20250506T212158Z
UID:10000239-1750161600-1750165200@region10.net
SUMMARY:How to Launch Your Business: A Comprehensive Checklist
DESCRIPTION:How to Launch Your Business: A Comprehensive Checklist\n\n\nThinking about starting a business in Colorado? Join us to learn what is required by state and local officials to get started. This class is for those who have already decided that entrepreneurship is right for them as well as determined their business idea and the feasibility of it. We will work our way through a concrete and concise checklist for the logistics of how to get your business up and running and where to go from there! \n  \nTopics include: \n* Trade name search \n* Legal structure selection \n* State registration \n* Licensing requirements \n* Business plan over view \n* Enterprise Zone Tax Credits \n* Human Resources \n  \nThis class is part of the Startup Track\, an SBDC webinar series that begins with idea validation and ends with strategic business planning and next steps for profitability and growth. \n  \nThis webinar will be presented on Zoom. Please register to receive the link to join. \n  \nIf you do not intend to show up to the live version of this class and are signing up in order to receive the recording afterwards\, please register for the On-Demand version of this class instead: How to Launch Your Business (on-demand) \n  \nSpeaker(s): Callie Koch\, West Central SBDC Program Manager \nCo-Sponsor(s): Region 10\, City of Montrose\, Town of Telluride CCAASE \n\nFee: No Cost \n\nHow to Launch Your Business: A Comprehensive Checklist\nwith Callie Koch\nThursday\, June 17th\, 12:00-1:00PM\nOnline\, no cost \nREGISTER TODAY!
URL:https://region10.net/event/how-to-launch-your-business-a-comprehensive-checklist-8/
LOCATION:Online
CATEGORIES:for business
ATTACH;FMTTYPE=image/jpeg:https://region10.net/wp-content/uploads/2024/02/R10_Email-Topic-Startup.jpg
ORGANIZER;CN="West Central SBDC":MAILTO:nancy@region10.net
END:VEVENT
END:VCALENDAR