BEGIN:VCALENDAR
VERSION:2.0
PRODID:-//Region 10 Colorado - ECPv6.15.20//NONSGML v1.0//EN
CALSCALE:GREGORIAN
METHOD:PUBLISH
X-WR-CALNAME:Region 10 Colorado
X-ORIGINAL-URL:https://region10.net
X-WR-CALDESC:Events for Region 10 Colorado
REFRESH-INTERVAL;VALUE=DURATION:PT1H
X-Robots-Tag:noindex
X-PUBLISHED-TTL:PT1H
BEGIN:VTIMEZONE
TZID:America/Denver
BEGIN:DAYLIGHT
TZOFFSETFROM:-0700
TZOFFSETTO:-0600
TZNAME:MDT
DTSTART:20210314T090000
END:DAYLIGHT
BEGIN:STANDARD
TZOFFSETFROM:-0600
TZOFFSETTO:-0700
TZNAME:MST
DTSTART:20211107T080000
END:STANDARD
BEGIN:DAYLIGHT
TZOFFSETFROM:-0700
TZOFFSETTO:-0600
TZNAME:MDT
DTSTART:20220313T090000
END:DAYLIGHT
BEGIN:STANDARD
TZOFFSETFROM:-0600
TZOFFSETTO:-0700
TZNAME:MST
DTSTART:20221106T080000
END:STANDARD
BEGIN:DAYLIGHT
TZOFFSETFROM:-0700
TZOFFSETTO:-0600
TZNAME:MDT
DTSTART:20230312T090000
END:DAYLIGHT
BEGIN:STANDARD
TZOFFSETFROM:-0600
TZOFFSETTO:-0700
TZNAME:MST
DTSTART:20231105T080000
END:STANDARD
END:VTIMEZONE
BEGIN:VEVENT
DTSTART;TZID=America/Denver:20220721T110000
DTEND;TZID=America/Denver:20220721T120000
DTSTAMP:20260423T230819
CREATED:20220623T163845Z
LAST-MODIFIED:20220715T172932Z
UID:10000071-1658401200-1658404800@region10.net
SUMMARY:Thinking Ahead: Employee Retention Strategies & Employee Ownership Models
DESCRIPTION:Employee Retention & Creative Employee Ownership for Micro Businesses: Adopting an employee ownership model could be the secret ingredient you need to supercharge your business. According to research\, the advantages of employee ownership include increased productivity\, revenue\, and profitability. \n\nIf that isn’t enough\, another study says 72% of United States employees would like to work for an employee-owned company. So\, if you need workers\, this might be an option to become an employer of choice! \n\nSpeaker(s): Speaker(s): Dale Jasinski lives in Fraser\, CO and is a former CPA\, family businessman\, serial entrepreneur\, and an associate professor of entrepreneurship at Quinnipiac University \nThinking Ahead\nwith Dale Jasinski\nThurs\, July 21\, 11:00 am – noon\nOnline\, No cost \nREGISTER TODAY!
URL:https://region10.net/event/thinking-ahead-employee-retention-strategies-employee-ownership-models/
LOCATION:Online\, 145 S Cascade Avenue\, Montrose\, CO 81401\, Montrose\, CO\, 81401
CATEGORIES:for business
ATTACH;FMTTYPE=image/jpeg:https://region10.net/wp-content/uploads/2022/05/Thinking-Ahead-small.jpg
END:VEVENT
END:VCALENDAR