BEGIN:VCALENDAR
VERSION:2.0
PRODID:-//Region 10 Colorado - ECPv6.15.20//NONSGML v1.0//EN
CALSCALE:GREGORIAN
METHOD:PUBLISH
X-ORIGINAL-URL:https://region10.net
X-WR-CALDESC:Events for Region 10 Colorado
REFRESH-INTERVAL;VALUE=DURATION:PT1H
X-Robots-Tag:noindex
X-PUBLISHED-TTL:PT1H
BEGIN:VTIMEZONE
TZID:America/Denver
BEGIN:DAYLIGHT
TZOFFSETFROM:-0700
TZOFFSETTO:-0600
TZNAME:MDT
DTSTART:20220313T090000
END:DAYLIGHT
BEGIN:STANDARD
TZOFFSETFROM:-0600
TZOFFSETTO:-0700
TZNAME:MST
DTSTART:20221106T080000
END:STANDARD
BEGIN:DAYLIGHT
TZOFFSETFROM:-0700
TZOFFSETTO:-0600
TZNAME:MDT
DTSTART:20230312T090000
END:DAYLIGHT
BEGIN:STANDARD
TZOFFSETFROM:-0600
TZOFFSETTO:-0700
TZNAME:MST
DTSTART:20231105T080000
END:STANDARD
BEGIN:DAYLIGHT
TZOFFSETFROM:-0700
TZOFFSETTO:-0600
TZNAME:MDT
DTSTART:20240310T090000
END:DAYLIGHT
BEGIN:STANDARD
TZOFFSETFROM:-0600
TZOFFSETTO:-0700
TZNAME:MST
DTSTART:20241103T080000
END:STANDARD
END:VTIMEZONE
BEGIN:VEVENT
DTSTART;TZID=America/Denver:20230912T190000
DTEND;TZID=America/Denver:20230912T200000
DTSTAMP:20260422T052615
CREATED:20230817T163826Z
LAST-MODIFIED:20230818T145602Z
UID:10000115-1694545200-1694548800@region10.net
SUMMARY:El Laboratorio de Ideas de Negocios
DESCRIPTION:¿INTERESADO EN INICIAR SU PROPIONEGOCIO? \nÚnase a nuestra sesión informativa para aprender sobre cómo convertir su idea en realidad.\nCompletamente en español. Se ofrecerán aperitivos. \nEl Laboratorio de Ideas de Negocios incluye: \n\n5 sesiones educativas sobre los fundamentos de negocios\nMentoría con expertos en negocios y finanzas\nMicro préstamos para probar la viabilidad de su idea\n\nMartes\, 12 de Septiembre\n7pm-8pm\nWest Central Colorado SBDC\n145 S Cascade Ave\, Montrose\, CO 81401 \nPreguntas y RSVP:\nDoug Mulford (se habla español)\ndoug@rmmfi.org\n303-246-7889\nhttps://forms.gle/TecmkccMZPwxTgPk8 \n 
URL:https://region10.net/event/el-laboratorio-de-ideas-de-negocios/
LOCATION:Region 10 Offices\, 145 S Cascade\, Montrose\, CO\, 81401\, United States
CATEGORIES:for business
ATTACH;FMTTYPE=image/jpeg:https://region10.net/wp-content/uploads/2023/08/WESP1-Info-Session-Flyer-Draft-2-1.jpg
ORGANIZER;CN="West Central SBDC":MAILTO:nancy@region10.net
END:VEVENT
END:VCALENDAR