BEGIN:VCALENDAR
VERSION:2.0
PRODID:-//Region 10 Colorado - ECPv6.15.20//NONSGML v1.0//EN
CALSCALE:GREGORIAN
METHOD:PUBLISH
X-ORIGINAL-URL:https://region10.net
X-WR-CALDESC:Events for Region 10 Colorado
REFRESH-INTERVAL;VALUE=DURATION:PT1H
X-Robots-Tag:noindex
X-PUBLISHED-TTL:PT1H
BEGIN:VTIMEZONE
TZID:America/Denver
BEGIN:DAYLIGHT
TZOFFSETFROM:-0700
TZOFFSETTO:-0600
TZNAME:MDT
DTSTART:20230312T090000
END:DAYLIGHT
BEGIN:STANDARD
TZOFFSETFROM:-0600
TZOFFSETTO:-0700
TZNAME:MST
DTSTART:20231105T080000
END:STANDARD
BEGIN:DAYLIGHT
TZOFFSETFROM:-0700
TZOFFSETTO:-0600
TZNAME:MDT
DTSTART:20240310T090000
END:DAYLIGHT
BEGIN:STANDARD
TZOFFSETFROM:-0600
TZOFFSETTO:-0700
TZNAME:MST
DTSTART:20241103T080000
END:STANDARD
BEGIN:DAYLIGHT
TZOFFSETFROM:-0700
TZOFFSETTO:-0600
TZNAME:MDT
DTSTART:20250309T090000
END:DAYLIGHT
BEGIN:STANDARD
TZOFFSETFROM:-0600
TZOFFSETTO:-0700
TZNAME:MST
DTSTART:20251102T080000
END:STANDARD
END:VTIMEZONE
BEGIN:VEVENT
DTSTART;TZID=America/Denver:20240628T143000
DTEND;TZID=America/Denver:20240628T153000
DTSTAMP:20260421T143739
CREATED:20240520T172733Z
LAST-MODIFIED:20240605T210920Z
UID:10000160-1719585000-1719588600@region10.net
SUMMARY:Finance Friday: Pricing & Sales Tax Implications
DESCRIPTION:Finance Friday\nAre you ignoring the money side of your business? Don’t leave this important area of your business for someone else to manage.  Take control! Knowledge is power! Learn tips and tricks to stay on top of your business finances and watch your profits grow. \nMeet Our Facilitator Kelly Johnston\nKelly is a valued member of the West Central SBDC workshop facilitator team\, teaching bookkeeping\, cash flow\, and accounting boot camps. She also serves as a West Central SBDC consultant. She graduated from the Leading Edge business planning series five years ago and her business has grown exponentially ever since. She is experienced in both the public accounting and private industry accounting fields. Her background includes a bachelor’s in finance and a master’s in accounting\, with experience in the healthcare industry with critical access hospitals and physician offices\, audit and tax preparation. Her education and experience add value to new start up organizations\, developing businesses\, and healthcare entities by creating a strong financial reporting set up and assisting in new financial reports. \nFinance Friday: Pricing & Sales Tax Implications\nwith Kelly Johnston\nFriday\, June 28\, 2:30pm – 3:30pm\nOnline\, no cost \nREGISTER TODAY!
URL:https://region10.net/event/finance-friday-15/
LOCATION:Online
CATEGORIES:for business
ATTACH;FMTTYPE=image/jpeg:https://region10.net/wp-content/uploads/2022/07/R10_Email-Program-Finance-Friday.jpg
ORGANIZER;CN="West Central SBDC":MAILTO:nancy@region10.net
END:VEVENT
END:VCALENDAR