BEGIN:VCALENDAR
VERSION:2.0
PRODID:-//Region 10 Colorado - ECPv6.15.20//NONSGML v1.0//EN
CALSCALE:GREGORIAN
METHOD:PUBLISH
X-WR-CALNAME:Region 10 Colorado
X-ORIGINAL-URL:https://region10.net
X-WR-CALDESC:Events for Region 10 Colorado
REFRESH-INTERVAL;VALUE=DURATION:PT1H
X-Robots-Tag:noindex
X-PUBLISHED-TTL:PT1H
BEGIN:VTIMEZONE
TZID:America/Denver
BEGIN:DAYLIGHT
TZOFFSETFROM:-0700
TZOFFSETTO:-0600
TZNAME:MDT
DTSTART:20220313T090000
END:DAYLIGHT
BEGIN:STANDARD
TZOFFSETFROM:-0600
TZOFFSETTO:-0700
TZNAME:MST
DTSTART:20221106T080000
END:STANDARD
BEGIN:DAYLIGHT
TZOFFSETFROM:-0700
TZOFFSETTO:-0600
TZNAME:MDT
DTSTART:20230312T090000
END:DAYLIGHT
BEGIN:STANDARD
TZOFFSETFROM:-0600
TZOFFSETTO:-0700
TZNAME:MST
DTSTART:20231105T080000
END:STANDARD
BEGIN:DAYLIGHT
TZOFFSETFROM:-0700
TZOFFSETTO:-0600
TZNAME:MDT
DTSTART:20240310T090000
END:DAYLIGHT
BEGIN:STANDARD
TZOFFSETFROM:-0600
TZOFFSETTO:-0700
TZNAME:MST
DTSTART:20241103T080000
END:STANDARD
END:VTIMEZONE
BEGIN:VEVENT
DTSTART;TZID=America/Denver:20230707T090000
DTEND;TZID=America/Denver:20230707T100000
DTSTAMP:20260422T080834
CREATED:20230620T204922Z
LAST-MODIFIED:20230620T204922Z
UID:10000107-1688720400-1688724000@region10.net
SUMMARY:Foodie Friday: Catering\, Popup Meals\, and Special Events
DESCRIPTION:Have you ever wanted to operate a catering business? Do you want to learn more about popup meals? Join us to learn food business strategies and information on catering\, popup meals\, and special events on the Western Slope! West Central SBDC brings area food enthusiasts “Foodie Friday”\, the first Friday of June\, July\, August\, and September\, 2023. Online webinar facilitated by local chef\, Brandt Bishop\, is free and open to the public. Pre-registration is required. \nFoodie Friday\nwith Brandt Bishop\nFriday\, July 7\, 9:00 am – 10:00 pm\nOnline\, no cost \nREGISTER TODAY!
URL:https://region10.net/event/foodie-friday-catering-popup-meals-and-special-events/
LOCATION:Online\, 145 S Cascade Avenue\, Montrose\, CO 81401\, Montrose\, CO\, 81401
CATEGORIES:for business
ATTACH;FMTTYPE=image/jpeg:https://region10.net/wp-content/uploads/2023/06/R10_Social-Catering.jpg
ORGANIZER;CN="West Central SBDC":MAILTO:nancy@region10.net
END:VEVENT
END:VCALENDAR