BEGIN:VCALENDAR
VERSION:2.0
PRODID:-//Region 10 Colorado - ECPv6.15.20//NONSGML v1.0//EN
CALSCALE:GREGORIAN
METHOD:PUBLISH
X-ORIGINAL-URL:https://region10.net
X-WR-CALDESC:Events for Region 10 Colorado
REFRESH-INTERVAL;VALUE=DURATION:PT1H
X-Robots-Tag:noindex
X-PUBLISHED-TTL:PT1H
BEGIN:VTIMEZONE
TZID:America/Denver
BEGIN:DAYLIGHT
TZOFFSETFROM:-0700
TZOFFSETTO:-0600
TZNAME:MDT
DTSTART:20230312T090000
END:DAYLIGHT
BEGIN:STANDARD
TZOFFSETFROM:-0600
TZOFFSETTO:-0700
TZNAME:MST
DTSTART:20231105T080000
END:STANDARD
BEGIN:DAYLIGHT
TZOFFSETFROM:-0700
TZOFFSETTO:-0600
TZNAME:MDT
DTSTART:20240310T090000
END:DAYLIGHT
BEGIN:STANDARD
TZOFFSETFROM:-0600
TZOFFSETTO:-0700
TZNAME:MST
DTSTART:20241103T080000
END:STANDARD
BEGIN:DAYLIGHT
TZOFFSETFROM:-0700
TZOFFSETTO:-0600
TZNAME:MDT
DTSTART:20250309T090000
END:DAYLIGHT
BEGIN:STANDARD
TZOFFSETFROM:-0600
TZOFFSETTO:-0700
TZNAME:MST
DTSTART:20251102T080000
END:STANDARD
END:VTIMEZONE
BEGIN:VEVENT
DTSTART;TZID=America/Denver:20240202T090000
DTEND;TZID=America/Denver:20240202T100000
DTSTAMP:20260421T220723
CREATED:20240115T164112Z
LAST-MODIFIED:20240115T164112Z
UID:10000040-1706864400-1706868000@region10.net
SUMMARY:Foodie Friday: Sell Your Food Products at This Year's Farmers Market
DESCRIPTION:Are you a small scale food producer who wants to get into farmers markets in Western CO? Join us for this informative webinar about everything you need to do now in order to be ready to apply for and become a vendor at this year’s farmers market! West Central SBDC brings area food enthusiasts “Foodie Friday”\, the first Friday of each month. Online webinar\, facilitated by Sammie Alteri of Valley Food Partnership who manages the Montrose Farmers Market\, is free and open to the public. Pre-registration is required. \n\nSpeaker(s): Sammie Alteri of Valley Food Partnership and the Montrose Farmers Market \nCo-Sponsor(s): West Central SBDC The Business Cultivator Region 10 LEAP Valley Food Partnership \n  \nFoodie Friday: Sell Your Food Products at This Year’s Farmers Market\nwith Sammie Alteri\nFriday\, February 2\, 9:00am – 10:00am\nOnline\, no cost \nREGISTER TODAY!
URL:https://region10.net/event/foodie-friday-sell-your-food-products-at-this-years-farmers-market/
LOCATION:Online
CATEGORIES:for business
ATTACH;FMTTYPE=image/jpeg:https://region10.net/wp-content/uploads/2023/07/R10_Social-Farmers-Markets.jpg
ORGANIZER;CN="West Central SBDC":MAILTO:nancy@region10.net
END:VEVENT
END:VCALENDAR