BEGIN:VCALENDAR
VERSION:2.0
PRODID:-//Region 10 Colorado - ECPv6.15.20//NONSGML v1.0//EN
CALSCALE:GREGORIAN
METHOD:PUBLISH
X-ORIGINAL-URL:https://region10.net
X-WR-CALDESC:Events for Region 10 Colorado
REFRESH-INTERVAL;VALUE=DURATION:PT1H
X-Robots-Tag:noindex
X-PUBLISHED-TTL:PT1H
BEGIN:VTIMEZONE
TZID:America/Denver
BEGIN:DAYLIGHT
TZOFFSETFROM:-0700
TZOFFSETTO:-0600
TZNAME:MDT
DTSTART:20230312T090000
END:DAYLIGHT
BEGIN:STANDARD
TZOFFSETFROM:-0600
TZOFFSETTO:-0700
TZNAME:MST
DTSTART:20231105T080000
END:STANDARD
BEGIN:DAYLIGHT
TZOFFSETFROM:-0700
TZOFFSETTO:-0600
TZNAME:MDT
DTSTART:20240310T090000
END:DAYLIGHT
BEGIN:STANDARD
TZOFFSETFROM:-0600
TZOFFSETTO:-0700
TZNAME:MST
DTSTART:20241103T080000
END:STANDARD
BEGIN:DAYLIGHT
TZOFFSETFROM:-0700
TZOFFSETTO:-0600
TZNAME:MDT
DTSTART:20250309T090000
END:DAYLIGHT
BEGIN:STANDARD
TZOFFSETFROM:-0600
TZOFFSETTO:-0700
TZNAME:MST
DTSTART:20251102T080000
END:STANDARD
END:VTIMEZONE
BEGIN:VEVENT
DTSTART;TZID=America/Denver:20240514T120000
DTEND;TZID=America/Denver:20240514T130000
DTSTAMP:20260421T110020
CREATED:20240411T192510Z
LAST-MODIFIED:20240513T161207Z
UID:10000149-1715688000-1715691600@region10.net
SUMMARY:Let's Talk: OEDIT Tax Credits/Incentives and Grants
DESCRIPTION:This LIVE webinar serves to create an open forum of Q&A\, with interactive conversation among participants and our SBDC Staff and Consultants – it will not be recorded! \nIn this session: OEDIT Tax Credits/Incentives and Grants Overview \nDo you know about the tax credits/incentives and grant programs that are offered to Colorado businesses through the Office of Economic Development and International Trade (OEDIT)? If you would like to learn more\, join us for this webinar about sources of credits and funding that you may not be aware that your business qualifies for. \nMeet Our Facilitators\nKat Poppenbrock\, Director\, Rural Opportunity Office Kami Collins\, Rural Opportunity Representative West \n  \nLet’s Talk: OEDIT Tax Credits/Incentives and Grants\nwith Kat Poppenbrock and Kami Collins\nTuesday\, May 14th\, 9:00am – 10:00am\nOnline\, no cost \nREGISTER TODAY!
URL:https://region10.net/event/lets-talk-oedit-tax-credits-incentives-and-grants/
LOCATION:Online\, 145 S Cascade Avenue\, Montrose\, CO 81401\, Montrose\, CO\, 81401
CATEGORIES:for business
ATTACH;FMTTYPE=image/jpeg:https://region10.net/wp-content/uploads/2023/03/R10_finance.jpg
ORGANIZER;CN="West Central SBDC":MAILTO:nancy@region10.net
END:VEVENT
END:VCALENDAR