BEGIN:VCALENDAR
VERSION:2.0
PRODID:-//Region 10 Colorado - ECPv6.15.20//NONSGML v1.0//EN
CALSCALE:GREGORIAN
METHOD:PUBLISH
X-WR-CALNAME:Region 10 Colorado
X-ORIGINAL-URL:https://region10.net
X-WR-CALDESC:Events for Region 10 Colorado
REFRESH-INTERVAL;VALUE=DURATION:PT1H
X-Robots-Tag:noindex
X-PUBLISHED-TTL:PT1H
BEGIN:VTIMEZONE
TZID:America/Denver
BEGIN:DAYLIGHT
TZOFFSETFROM:-0700
TZOFFSETTO:-0600
TZNAME:MDT
DTSTART:20230312T090000
END:DAYLIGHT
BEGIN:STANDARD
TZOFFSETFROM:-0600
TZOFFSETTO:-0700
TZNAME:MST
DTSTART:20231105T080000
END:STANDARD
BEGIN:DAYLIGHT
TZOFFSETFROM:-0700
TZOFFSETTO:-0600
TZNAME:MDT
DTSTART:20240310T090000
END:DAYLIGHT
BEGIN:STANDARD
TZOFFSETFROM:-0600
TZOFFSETTO:-0700
TZNAME:MST
DTSTART:20241103T080000
END:STANDARD
BEGIN:DAYLIGHT
TZOFFSETFROM:-0700
TZOFFSETTO:-0600
TZNAME:MDT
DTSTART:20250309T090000
END:DAYLIGHT
BEGIN:STANDARD
TZOFFSETFROM:-0600
TZOFFSETTO:-0700
TZNAME:MST
DTSTART:20251102T080000
END:STANDARD
END:VTIMEZONE
BEGIN:VEVENT
DTSTART;TZID=America/Denver:20240925T120000
DTEND;TZID=America/Denver:20240925T133000
DTSTAMP:20260421T051137
CREATED:20240917T165920Z
LAST-MODIFIED:20240917T165920Z
UID:10000172-1727265600-1727271000@region10.net
SUMMARY:Money Smart: Financial Management
DESCRIPTION:Do you have questions about how to manage your small business finances? Do you know about budgeting\, balance sheets and income statements? Do you have other questions about managing your business dollars? This 1 hour webinar provides an overview of everything you need to know to start working on your Money Smarts! Topics include: * Why is a budget helpful; * What are the balance sheet and income statements; * Why is managing cash flow important; * Basic business funding and capital; This webinar will be presented on Zoom. Please register to receive the link to join. \nSpeaker(s): Criston Payne\, US Bank \nCo-Sponsor(s): Region 10\, City of Montrose \nAdditional post-registration required via link provided. \nMoney Smart: Financial Management\nwith Christon Payne\, US Bank\nWednesday\, September 25th\, 12:00pm – 1:30pm\nOnline\, no cost \nREGISTER TODAY!
URL:https://region10.net/event/money-smart-financial-management/
LOCATION:Online
CATEGORIES:for business
ATTACH;FMTTYPE=image/jpeg:https://region10.net/wp-content/uploads/2023/10/R10_Email-Topic-Accounting.jpg
ORGANIZER;CN="West Central SBDC":MAILTO:nancy@region10.net
END:VEVENT
END:VCALENDAR