BEGIN:VCALENDAR
VERSION:2.0
PRODID:-//Region 10 Colorado - ECPv6.15.20//NONSGML v1.0//EN
CALSCALE:GREGORIAN
METHOD:PUBLISH
X-WR-CALNAME:Region 10 Colorado
X-ORIGINAL-URL:https://region10.net
X-WR-CALDESC:Events for Region 10 Colorado
REFRESH-INTERVAL;VALUE=DURATION:PT1H
X-Robots-Tag:noindex
X-PUBLISHED-TTL:PT1H
BEGIN:VTIMEZONE
TZID:America/Denver
BEGIN:DAYLIGHT
TZOFFSETFROM:-0700
TZOFFSETTO:-0600
TZNAME:MDT
DTSTART:20230312T090000
END:DAYLIGHT
BEGIN:STANDARD
TZOFFSETFROM:-0600
TZOFFSETTO:-0700
TZNAME:MST
DTSTART:20231105T080000
END:STANDARD
BEGIN:DAYLIGHT
TZOFFSETFROM:-0700
TZOFFSETTO:-0600
TZNAME:MDT
DTSTART:20240310T090000
END:DAYLIGHT
BEGIN:STANDARD
TZOFFSETFROM:-0600
TZOFFSETTO:-0700
TZNAME:MST
DTSTART:20241103T080000
END:STANDARD
BEGIN:DAYLIGHT
TZOFFSETFROM:-0700
TZOFFSETTO:-0600
TZNAME:MDT
DTSTART:20250309T090000
END:DAYLIGHT
BEGIN:STANDARD
TZOFFSETFROM:-0600
TZOFFSETTO:-0700
TZNAME:MST
DTSTART:20251102T080000
END:STANDARD
END:VTIMEZONE
BEGIN:VEVENT
DTSTART;TZID=America/Denver:20241204T100000
DTEND;TZID=America/Denver:20241204T110000
DTSTAMP:20260422T040307
CREATED:20241112T225221Z
LAST-MODIFIED:20241112T225249Z
UID:10000185-1733306400-1733310000@region10.net
SUMMARY:Grow with Google: Reach Customers Online
DESCRIPTION:Grow with Google: Reach Customers Online\n\nIn our comprehensive workshop. We’ll explain the inner workings of Google Search and guide you through enhancing your website’s visibility using Search Engine Optimization (SEO) techniques. Additionally\, the session will introduce you to essential tools such as Google Business Profile\, Google Trends\, Search Console\, and Google Ads\, among others. Equip yourself with the knowledge to leverage these platforms effectively\, ensuring your business stands out in the digital landscape. In this workshop we’ll discuss best practices for: \n*Improving your website’s visibility in Google’s organic search results\, on all devices \n*Creating a free Google Business Profile \n*Advertising your business on Google \nMeet Our Facilitator: Maria Elena Duron\nMaria is a speaker for the Grow with Google partner program. She helps businesses profitably harness their personal brand\, content\, and referral marketing. Her wide range of clients includes hotels\, restaurants\, inventors\, authors\, and web series creators. \nMaria is a guest lecturer at the University of Texas SBDC\, editor-in-chief of the award winning Personal Branding Blog\, and a contributing columnist for publications like Business Insider\, American Business Journal\, Fox Business\, US News & World Report\, Entrepreneur\, The Huffington Post\, and The Young Entrepreneurs Council. Maria was awarded the Texas Governor’s Excellence in Small Business Award and is the founder of #brandchat\, a recognized online chat focused on marketing and branding. She earned her B.B.A. in marketing from Texas Tech University and graduate work at Cornell University\, University of California in Davis\, and University of Phoenix. \n\nCo-Sponsor(s): Region 10\, The Business Cultivator \nAdditional post-registration required via link provided. \nGrow with Google: Reach Customers Online\nwith Maria Elena Duron\nWednesday\, December 4th\, 10:00am – 11:00am\nOnline\, no cost \nREGISTER TODAY!
URL:https://region10.net/event/grow-with-google-reach-customers-online-2/
LOCATION:Online\, 145 S Cascade Avenue\, Montrose\, CO 81401\, Montrose\, CO\, 81401
CATEGORIES:for business
ATTACH;FMTTYPE=image/jpeg:https://region10.net/wp-content/uploads/2024/02/R10_Email-Topic-Google-Trends.jpg
ORGANIZER;CN="West Central SBDC":MAILTO:nancy@region10.net
END:VEVENT
BEGIN:VEVENT
DTSTART;TZID=America/Denver:20241211T100000
DTEND;TZID=America/Denver:20241211T110000
DTSTAMP:20260422T040307
CREATED:20241112T231242Z
LAST-MODIFIED:20241112T231327Z
UID:10000186-1733911200-1733914800@region10.net
SUMMARY:Grow with Google: A Year In Review: Metrics that Matter
DESCRIPTION:Grow with Google: A Year In Review: Metrics that Matter\n\nWhat metrics matter to determine your end of year review? How do you make sure you’re set up for success in 2025? By measuring the right metrics\, businesses can make data-driven decisions to improve their marketing strategies and see better results. This seminar will empower participants to stop wasting time and money on ineffective marketing and start using metrics to drive success. \nMeet Our Facilitator: Maria Elena Duron\nMaria is a speaker for the Grow with Google partner program. She helps businesses profitably harness their personal brand\, content\, and referral marketing. Her wide range of clients includes hotels\, restaurants\, inventors\, authors\, and web series creators. \nMaria is a guest lecturer at the University of Texas SBDC\, editor-in-chief of the award winning Personal Branding Blog\, and a contributing columnist for publications like Business Insider\, American Business Journal\, Fox Business\, US News & World Report\, Entrepreneur\, The Huffington Post\, and The Young Entrepreneurs Council. Maria was awarded the Texas Governor’s Excellence in Small Business Award and is the founder of #brandchat\, a recognized online chat focused on marketing and branding. She earned her B.B.A. in marketing from Texas Tech University and graduate work at Cornell University\, University of California in Davis\, and University of Phoenix. \n\nCo-Sponsor(s): Region 10 The Business Cultivator \nAdditional post-registration required via link provided. \nGrow with Google: A Year In Review: Metrics that Matter\nwith Maria Elena Duron\nWednesday\, December 11th\, 10:00am – 11:00am\nOnline\, no cost \nREGISTER TODAY!
URL:https://region10.net/event/grow-with-google-a-year-in-review-metrics-that-matter/
LOCATION:Online\, 145 S Cascade Avenue\, Montrose\, CO 81401\, Montrose\, CO\, 81401
CATEGORIES:for business
ATTACH;FMTTYPE=image/jpeg:https://region10.net/wp-content/uploads/2024/02/R10_Email-Topic-Google-Trends.jpg
ORGANIZER;CN="West Central SBDC":MAILTO:nancy@region10.net
END:VEVENT
END:VCALENDAR