BEGIN:VCALENDAR
VERSION:2.0
PRODID:-//Region 10 Colorado - ECPv6.15.20//NONSGML v1.0//EN
CALSCALE:GREGORIAN
METHOD:PUBLISH
X-ORIGINAL-URL:https://region10.net
X-WR-CALDESC:Events for Region 10 Colorado
REFRESH-INTERVAL;VALUE=DURATION:PT1H
X-Robots-Tag:noindex
X-PUBLISHED-TTL:PT1H
BEGIN:VTIMEZONE
TZID:America/Denver
BEGIN:DAYLIGHT
TZOFFSETFROM:-0700
TZOFFSETTO:-0600
TZNAME:MDT
DTSTART:20240310T090000
END:DAYLIGHT
BEGIN:STANDARD
TZOFFSETFROM:-0600
TZOFFSETTO:-0700
TZNAME:MST
DTSTART:20241103T080000
END:STANDARD
BEGIN:DAYLIGHT
TZOFFSETFROM:-0700
TZOFFSETTO:-0600
TZNAME:MDT
DTSTART:20250309T090000
END:DAYLIGHT
BEGIN:STANDARD
TZOFFSETFROM:-0600
TZOFFSETTO:-0700
TZNAME:MST
DTSTART:20251102T080000
END:STANDARD
BEGIN:DAYLIGHT
TZOFFSETFROM:-0700
TZOFFSETTO:-0600
TZNAME:MDT
DTSTART:20260308T090000
END:DAYLIGHT
BEGIN:STANDARD
TZOFFSETFROM:-0600
TZOFFSETTO:-0700
TZNAME:MST
DTSTART:20261101T080000
END:STANDARD
END:VTIMEZONE
BEGIN:VEVENT
DTSTART;TZID=America/Denver:20250409T100000
DTEND;TZID=America/Denver:20250409T110000
DTSTAMP:20260420T213046
CREATED:20250320T165427Z
LAST-MODIFIED:20250320T170923Z
UID:10000226-1744192800-1744196400@region10.net
SUMMARY:Grow with Google: Growth Metrics That Matter
DESCRIPTION:Grow with Google: Growth Metrics That Matter\n\nIn this seminar\, participants will learn about the key metrics that matter in marketing and how to use them to optimize their campaigns. By measuring the right metrics\, businesses can make data-driven decisions to improve their marketing strategies and see better results. This seminar will empower participants to stop wasting time and money on ineffective marketing and start using metrics to drive success. In this session\, you’ll learn: \n*What metrics to review depending on your goals \n*How to apply the insights from your data \n*What to review to make sure content and campaigns are getting you closer to your goals \nMeet Our Facilitator: Maria Elena Duron\nMaria is a speaker for the Grow with Google partner program. She helps businesses profitably harness their personal brand\, content\, and referral marketing. Her wide range of clients includes hotels\, restaurants\, inventors\, authors\, and web series creators. \nMaria is a guest lecturer at the University of Texas SBDC\, editor-in-chief of the award winning Personal Branding Blog\, and a contributing columnist for publications like Business Insider\, American Business Journal\, Fox Business\, US News & World Report\, Entrepreneur\, The Huffington Post\, and The Young Entrepreneurs Council. Maria was awarded the Texas Governor’s Excellence in Small Business Award and is the founder of #brandchat\, a recognized online chat focused on marketing and branding. She earned her B.B.A. in marketing from Texas Tech University and graduate work at Cornell University\, University of California in Davis\, and University of Phoenix. \n  \n\nCo-Sponsor(s): Region 10\, The Business Cultivator \nAdditional post-registration required via link provided. \n  \nFee: No Cost \nGrow with Google: Growth Metrics That Matter\nwith Maria Elena Duron\nWednesday\, April 9th\, 10:00am – 11:00AM\nOnline\, no cost \nREGISTER TODAY!
URL:https://region10.net/event/grow-with-google-growth-metrics-that-matter-2/
LOCATION:Online\, 145 S Cascade Avenue\, Montrose\, CO 81401\, Montrose\, CO\, 81401
CATEGORIES:for business
ATTACH;FMTTYPE=image/jpeg:https://region10.net/wp-content/uploads/2024/02/R10_Email-Topic-Google-Trends.jpg
ORGANIZER;CN="West Central SBDC":MAILTO:nancy@region10.net
END:VEVENT
BEGIN:VEVENT
DTSTART;TZID=America/Denver:20250415T110000
DTEND;TZID=America/Denver:20250415T120000
DTSTAMP:20260420T213046
CREATED:20250320T162249Z
LAST-MODIFIED:20250320T162249Z
UID:10000221-1744714800-1744718400@region10.net
SUMMARY:Marketing Essentials: Developing Your Brand Strategy (Part 4 of 5)
DESCRIPTION:Marketing Essentials: Developing Your Brand Strategy (Part 4 of 5)\n\n\n\nThis 5-part series is for business owners who are new to marketing and need to learn the basics of marketing in order to develop a clear plan to effectively getting their product or service into the hands of customers. If you missed any part of this series\, recordings of prior classes will be available \nPart 4: Developing Your Brand Strategy (if this class is full please register for the on-demand version to receive the recording)\nBuild a brand that inspires trust\, loyalty\, and growth. This hands-on workshop is designed for entrepreneurs\, small business owners\, and marketers who want to create a strong and cohesive brand strategy. \nWhat you’ll achieve: \n\nDefine your brand purpose: Clarify your mission\, vision\, and values.\nEstablish brand consistency: Align messaging\, visuals\, and tone across platforms.\nConnect with your audience: Develop strategies to engage and retain your ideal customers.\nPlan for success: Create an actionable brand strategy tailored to your business goals.\n\nElevate your brand’s impact—join us and start building a strategy that lasts! \nThis webinar will be presented on Zoom. Please register to receive the link to join. \nJoin us for the rest of the series: Part 5 \n  \nMeet Our Facilitator: Rebecca Louzan\nRebecca Louzan is seasoned entrepreneur\, marketing strategist\, and workshop facilitator with over two decades of experience helping businesses craft meaningful and effective brand narratives. She brings a wealth of knowledge in brand positioning\, messaging\, and customer engagement to entrepreneurs\, small businesses\, and organizations seeking to strengthen their presence in competitive markets. \nAs founder of Wild Palomino\, an independent and woman owned marketing + sales strategy group\, Rebecca is known for her ability to distill complex ideas into clear\, impactful messaging that resonates with target audiences. She specializes in creating brand strategies that align with core values while driving business growth. Her workshops\, which focus on core messaging\, competitor analysis\, and positioning\, are regarded for their practical insights and interactive structure\, empowering participants to take immediate\, strategic action. \nIn her professional journey\, Rebecca has collaborated with businesses across diverse industries\, consistently delivering results-driven strategies and actionable solutions. Her approachable and dynamic teaching style has made her a sought-after facilitator for both in-person and online workshops. \n  \n\nSpeaker(s): Rebecca Louzan \nCo-Sponsor(s): Region 10\, City of Montrose\, Town of Telluride CCAASE \n\n\nFee: No Cost \n\nMarketing Essentials: Developing Your Brand Strategy (Part 4 of 5)\nwith Rebecca Louzan\nTuesday\, April 15th\, 11:00AM-12:00PM\nOnline\, no cost \nREGISTER TODAY!
URL:https://region10.net/event/marketing-essentials-developing-your-brand-strategy-part-4-of-5/
LOCATION:Online\, 145 S Cascade Avenue\, Montrose\, CO 81401\, Montrose\, CO\, 81401
CATEGORIES:for business
ATTACH;FMTTYPE=image/jpeg:https://region10.net/wp-content/uploads/2022/10/R10_Email-Program-Marketing.jpg
ORGANIZER;CN="West Central SBDC":MAILTO:nancy@region10.net
END:VEVENT
END:VCALENDAR