BEGIN:VCALENDAR
VERSION:2.0
PRODID:-//Region 10 Colorado - ECPv6.15.20//NONSGML v1.0//EN
CALSCALE:GREGORIAN
METHOD:PUBLISH
X-ORIGINAL-URL:https://region10.net
X-WR-CALDESC:Events for Region 10 Colorado
REFRESH-INTERVAL;VALUE=DURATION:PT1H
X-Robots-Tag:noindex
X-PUBLISHED-TTL:PT1H
BEGIN:VTIMEZONE
TZID:America/Denver
BEGIN:DAYLIGHT
TZOFFSETFROM:-0700
TZOFFSETTO:-0600
TZNAME:MDT
DTSTART:20210314T090000
END:DAYLIGHT
BEGIN:STANDARD
TZOFFSETFROM:-0600
TZOFFSETTO:-0700
TZNAME:MST
DTSTART:20211107T080000
END:STANDARD
BEGIN:DAYLIGHT
TZOFFSETFROM:-0700
TZOFFSETTO:-0600
TZNAME:MDT
DTSTART:20220313T090000
END:DAYLIGHT
BEGIN:STANDARD
TZOFFSETFROM:-0600
TZOFFSETTO:-0700
TZNAME:MST
DTSTART:20221106T080000
END:STANDARD
BEGIN:DAYLIGHT
TZOFFSETFROM:-0700
TZOFFSETTO:-0600
TZNAME:MDT
DTSTART:20230312T090000
END:DAYLIGHT
BEGIN:STANDARD
TZOFFSETFROM:-0600
TZOFFSETTO:-0700
TZNAME:MST
DTSTART:20231105T080000
END:STANDARD
END:VTIMEZONE
BEGIN:VEVENT
DTSTART;TZID=America/Denver:20221020T180000
DTEND;TZID=America/Denver:20221103T200000
DTSTAMP:20260422T132302
CREATED:20220926T145620Z
LAST-MODIFIED:20220926T145649Z
UID:10000004-1666288800-1667505600@region10.net
SUMMARY:Financial Leading Edge: Fine-tuning your business financials to meet today’s economic challenges
DESCRIPTION:It’s hard enough managing a business in the best of times\, but are you prepared for today’s economic challenges? Our Financial Leading Edge is geared toward helping you understand today’s economic environment and inspiring you to develop defensive & offensive tactics to address and stabilize your business finances in a rocky environment. \nThis 3-week financial intensive will provide business owners expert guidance in assessing and monitoring your business’s health by focusing on cash flow management and profitability\, understanding financial statements and key ratios\, and implementing key performance indicators (KPIs) to keep you on track and confident! \nJoin us Thursday evenings\, Oct 13\, 20\, and 27\, 6- 8 p.m. Course Outline: Week 1: Cash Flow Week 2: Profitability Week 3: Financial Statements\, Ratios\, and Key Performance Indicators (KPIs) \nMeet Our Facilitator Kelly Johnston Kelly is a valued member of the SBDC workshop facilitator team\, teaching bookkeeping\, cash flow\, accounting boot camps\, and our monthly Finance Friday series. She graduated from the Leading Edge business planning series six years ago and her business has grown exponentially ever since. She is experienced in both the public accounting and private industry accounting fields. Her background includes a bachelor’s in finance and a master’s in accounting\, with experience in the healthcare industry with critical access hospitals and physician offices\, audit and tax preparation. Her education and experience add value to new start up organizations\, developing businesses\, and healthcare entities by creating a strong financial reporting set up and assisting in new financial reports. \nSpeaker(s): Hosted by SBDC program manager Ashley Pynes with training facilitator Kelly Johnston. \n  \nFinancial Leading Edge\nwith Kelly Johnston\nThursdays\, October 13\, 20\, 27\, 6-8 pm\nOnline\, $85 \nREGISTER TODAY!
URL:https://region10.net/event/financial-leading-edge-fine-tuning-your-business-financials-to-meet-todays-economic-challenges/2022-10-20/
LOCATION:Online
CATEGORIES:for business
ATTACH;FMTTYPE=image/jpeg:https://region10.net/wp-content/uploads/2022/08/R10_Email-Program-Leading-Edge.jpg
ORGANIZER;CN="West Central SBDC":MAILTO:nancy@region10.net
END:VEVENT
BEGIN:VEVENT
DTSTART;TZID=America/Denver:20221027T180000
DTEND;TZID=America/Denver:20221110T190000
DTSTAMP:20260422T132302
CREATED:20220926T145620Z
LAST-MODIFIED:20220926T145649Z
UID:10000005-1666893600-1668106800@region10.net
SUMMARY:Financial Leading Edge: Fine-tuning your business financials to meet today’s economic challenges
DESCRIPTION:It’s hard enough managing a business in the best of times\, but are you prepared for today’s economic challenges? Our Financial Leading Edge is geared toward helping you understand today’s economic environment and inspiring you to develop defensive & offensive tactics to address and stabilize your business finances in a rocky environment. \nThis 3-week financial intensive will provide business owners expert guidance in assessing and monitoring your business’s health by focusing on cash flow management and profitability\, understanding financial statements and key ratios\, and implementing key performance indicators (KPIs) to keep you on track and confident! \nJoin us Thursday evenings\, Oct 13\, 20\, and 27\, 6- 8 p.m. Course Outline: Week 1: Cash Flow Week 2: Profitability Week 3: Financial Statements\, Ratios\, and Key Performance Indicators (KPIs) \nMeet Our Facilitator Kelly Johnston Kelly is a valued member of the SBDC workshop facilitator team\, teaching bookkeeping\, cash flow\, accounting boot camps\, and our monthly Finance Friday series. She graduated from the Leading Edge business planning series six years ago and her business has grown exponentially ever since. She is experienced in both the public accounting and private industry accounting fields. Her background includes a bachelor’s in finance and a master’s in accounting\, with experience in the healthcare industry with critical access hospitals and physician offices\, audit and tax preparation. Her education and experience add value to new start up organizations\, developing businesses\, and healthcare entities by creating a strong financial reporting set up and assisting in new financial reports. \nSpeaker(s): Hosted by SBDC program manager Ashley Pynes with training facilitator Kelly Johnston. \n  \nFinancial Leading Edge\nwith Kelly Johnston\nThursdays\, October 13\, 20\, 27\, 6-8 pm\nOnline\, $85 \nREGISTER TODAY!
URL:https://region10.net/event/financial-leading-edge-fine-tuning-your-business-financials-to-meet-todays-economic-challenges/2022-10-27/
LOCATION:Online
CATEGORIES:for business
ATTACH;FMTTYPE=image/jpeg:https://region10.net/wp-content/uploads/2022/08/R10_Email-Program-Leading-Edge.jpg
ORGANIZER;CN="West Central SBDC":MAILTO:nancy@region10.net
END:VEVENT
BEGIN:VEVENT
DTSTART;TZID=America/Denver:20221116T130000
DTEND;TZID=America/Denver:20221116T140000
DTSTAMP:20260422T132302
CREATED:20221026T210602Z
LAST-MODIFIED:20221026T210602Z
UID:10000095-1668603600-1668607200@region10.net
SUMMARY:Innovative Leadership - Wrapping it Up! Evaluating Your Success in 2022
DESCRIPTION:Success for an entrepreneur isn’t just about the bottom line. While its important aim for your desired financial goals\, success is also measured by what matters most to you such as having a positive impact on your customers or community/ building camaraderie in your team/ cultivating a healthy/work life balance\, and navigating challenges (just to name a few). Join Jennifer Visitacion\, Business & Leadership Coach/Consultant to explore a framework for evaluating your success based on personal and organizational sustainability indicators and to create a plan for ending the year in celebration of all you have accomplished. \nSpeaker(s): Jennifer Tucker Visitacion Jen is a business and leadership coach/consultant and founder of Moonstone Ventures\, LLC. Jen works with small business entrepreneurs and community leaders to create and lead organizations with purpose. Clients have included online and main street entrepreneurs\, outdoor and environmental education providers and agencies\, agricultural businesses and cooperatives\, the restaurant and hospitality industry\, health and wellness practitioners\, and public and private education institutions. \nInnovative Leadership\nwith Jennifer Visitacion\nWednesday\, November 16\, 1:00 – 2:00 pm \nOnline\, No cost \nREGISTER TODAY!
URL:https://region10.net/event/innovative-leadership-wrapping-it-up-evaluating-your-success-in-2022/
LOCATION:Online\, 145 S Cascade Avenue\, Montrose\, CO 81401\, Montrose\, CO\, 81401
CATEGORIES:for business
ATTACH;FMTTYPE=image/jpeg:https://region10.net/wp-content/uploads/2022/10/R10_Email-Program-Management.jpg
END:VEVENT
END:VCALENDAR