BEGIN:VCALENDAR
VERSION:2.0
PRODID:-//Region 10 Colorado - ECPv6.15.20//NONSGML v1.0//EN
CALSCALE:GREGORIAN
METHOD:PUBLISH
X-WR-CALNAME:Region 10 Colorado
X-ORIGINAL-URL:https://region10.net
X-WR-CALDESC:Events for Region 10 Colorado
REFRESH-INTERVAL;VALUE=DURATION:PT1H
X-Robots-Tag:noindex
X-PUBLISHED-TTL:PT1H
BEGIN:VTIMEZONE
TZID:America/Denver
BEGIN:DAYLIGHT
TZOFFSETFROM:-0700
TZOFFSETTO:-0600
TZNAME:MDT
DTSTART:20240310T090000
END:DAYLIGHT
BEGIN:STANDARD
TZOFFSETFROM:-0600
TZOFFSETTO:-0700
TZNAME:MST
DTSTART:20241103T080000
END:STANDARD
BEGIN:DAYLIGHT
TZOFFSETFROM:-0700
TZOFFSETTO:-0600
TZNAME:MDT
DTSTART:20250309T090000
END:DAYLIGHT
BEGIN:STANDARD
TZOFFSETFROM:-0600
TZOFFSETTO:-0700
TZNAME:MST
DTSTART:20251102T080000
END:STANDARD
BEGIN:DAYLIGHT
TZOFFSETFROM:-0700
TZOFFSETTO:-0600
TZNAME:MDT
DTSTART:20260308T090000
END:DAYLIGHT
BEGIN:STANDARD
TZOFFSETFROM:-0600
TZOFFSETTO:-0700
TZNAME:MST
DTSTART:20261101T080000
END:STANDARD
END:VTIMEZONE
BEGIN:VEVENT
DTSTART;TZID=America/Denver:20250219T100000
DTEND;TZID=America/Denver:20250219T110000
DTSTAMP:20260420T215035
CREATED:20250116T201045Z
LAST-MODIFIED:20250116T201813Z
UID:10000203-1739959200-1739962800@region10.net
SUMMARY:Grow with Google: Coach Your Team to Success
DESCRIPTION:Grow with Google: Coach Your Team to Success\n\nUnderstand the attributes and behaviors that make the best managers. Learn\, practice\, and build your skills as a coach for your team. Provide meaningful and developmental feedback to your team to maximize their performance and development. \nIn this workshop we’ll cover: \n\nThe skills of great managers\nHow to coach your team\nTips for providing positive feedback\n\nMeet Our Facilitator: Maria Elena Duron\nMaria is a speaker for the Grow with Google partner program. She helps businesses profitably harness their personal brand\, content\, and referral marketing. Her wide range of clients includes hotels\, restaurants\, inventors\, authors\, and web series creators. \nMaria is a guest lecturer at the University of Texas SBDC\, editor-in-chief of the award winning Personal Branding Blog\, and a contributing columnist for publications like Business Insider\, American Business Journal\, Fox Business\, US News & World Report\, Entrepreneur\, The Huffington Post\, and The Young Entrepreneurs Council. Maria was awarded the Texas Governor’s Excellence in Small Business Award and is the founder of #brandchat\, a recognized online chat focused on marketing and branding. She earned her B.B.A. in marketing from Texas Tech University and graduate work at Cornell University\, University of California in Davis\, and University of Phoenix. \n  \n\nCo-Sponsor(s): Region 10\, The Business Cultivator \nAdditional post-registration required via link provided. \nGrow with Google: Coach Your Team to Success\nwith Maria Elena Duron\nWednesday\, February 19th\, 10:00am – 11:00am\nOnline\, no cost \nREGISTER TODAY!
URL:https://region10.net/event/grow-with-google-coach-your-team-to-success-2/
LOCATION:Online\, 145 S Cascade Avenue\, Montrose\, CO 81401\, Montrose\, CO\, 81401
CATEGORIES:for business
ATTACH;FMTTYPE=image/jpeg:https://region10.net/wp-content/uploads/2024/02/R10_Email-Topic-Google-Trends.jpg
ORGANIZER;CN="West Central SBDC":MAILTO:nancy@region10.net
END:VEVENT
BEGIN:VEVENT
DTSTART;TZID=America/Denver:20250226T120000
DTEND;TZID=America/Denver:20250226T130000
DTSTAMP:20260420T215035
CREATED:20250116T200536Z
LAST-MODIFIED:20250116T200536Z
UID:10000201-1740571200-1740574800@region10.net
SUMMARY:Money Smart: Tax Planning and Reporting
DESCRIPTION:Money Smart: Tax Planning and Reporting\n\n\nThis Tax Planning and Reporting for a Small Business webinar provides an overview of tax planning and reporting and is designed to help participants to understand how taxes can benefit and affect their business. \nInformation will include: \n*Identify the federal tax requirements of a small business and its owner\, and to establish a plan to account and pay for federal taxes \n*Identify the general state and local tax requirements of a small business\, and establish a plan to account and pay for these taxes. \n*Identify methods for researching the local\, municipal\, and county reporting/licensing requirements for a small business. \nThe SBDC cannot provide legal\, financial\, or taxation advice for your business specifically and this webinar will be focused on general information that is applicable to most small businesses. For specific taxation guidance\, please work with individually with an accountant who will be able to provide instruction and advice for your business. \nThis webinar will be presented on Zoom. Please register to receive the link to join. \n  \nSpeaker(s): Callie Koch\, West Central SBDC Program Manager \nCo-Sponsor(s): Region 10\, City of Montrose \n\nFee: No Cost \n\nMoney Smart: Tax Planning and Reporting\nwith Callie Koch\nWednesday\, February 26th\, 12:00-1:00PM\nOnline\, no cost \nREGISTER TODAY!
URL:https://region10.net/event/money-smart-tax-planning-and-reporting/
LOCATION:Online\, 145 S Cascade Avenue\, Montrose\, CO 81401\, Montrose\, CO\, 81401
CATEGORIES:for business
ATTACH;FMTTYPE=image/jpeg:https://region10.net/wp-content/uploads/2023/10/R10_Email-Topic-Accounting.jpg
ORGANIZER;CN="West Central SBDC":MAILTO:nancy@region10.net
END:VEVENT
BEGIN:VEVENT
DTSTART;TZID=America/Denver:20250227T100000
DTEND;TZID=America/Denver:20250227T110000
DTSTAMP:20260420T215035
CREATED:20250116T202153Z
LAST-MODIFIED:20250116T202153Z
UID:10000205-1740650400-1740654000@region10.net
SUMMARY:Grow with Google: Staying Ahead: Monthly Google & AI Developments
DESCRIPTION:Grow with Google: Staying Ahead: Monthly Google & AI Developments\n\nJoin us for a monthly deep dive into the latest Google updates and AI trends shaping the digital landscape. Each session will provide actionable insights to help you: \n*Stay Ahead of the Curve: Learn about the newest Google algorithm changes\, feature releases\, and best practices. \n*Harness the Power of AI: Discover how AI tools can supercharge your marketing efforts and drive better results. \nWhether you’re a seasoned marketer or just starting out\, this webinar is your go-to source for staying informed and competitive in the digital age. \nMeet Our Facilitator: Maria Elena Duron\nMaria is a speaker for the Grow with Google partner program. She helps businesses profitably harness their personal brand\, content\, and referral marketing. Her wide range of clients includes hotels\, restaurants\, inventors\, authors\, and web series creators. \nMaria is a guest lecturer at the University of Texas SBDC\, editor-in-chief of the award winning Personal Branding Blog\, and a contributing columnist for publications like Business Insider\, American Business Journal\, Fox Business\, US News & World Report\, Entrepreneur\, The Huffington Post\, and The Young Entrepreneurs Council. Maria was awarded the Texas Governor’s Excellence in Small Business Award and is the founder of #brandchat\, a recognized online chat focused on marketing and branding. She earned her B.B.A. in marketing from Texas Tech University and graduate work at Cornell University\, University of California in Davis\, and University of Phoenix. \n  \n\nCo-Sponsor(s): Region 10 The Business Cultivator \nAdditional post-registration required via link provided. \nGrow with Google: Staying Ahead: Monthly Google & AI Developments\nwith Maria Elena Duron\nThursday\, February 27th\, 10:00am – 11:00am\nOnline\, no cost \nREGISTER TODAY!
URL:https://region10.net/event/grow-with-google-staying-ahead-monthly-google-ai-developments-2/
LOCATION:Online\, 145 S Cascade Avenue\, Montrose\, CO 81401\, Montrose\, CO\, 81401
CATEGORIES:for business
ATTACH;FMTTYPE=image/jpeg:https://region10.net/wp-content/uploads/2024/02/R10_Email-Topic-Google-Trends.jpg
ORGANIZER;CN="West Central SBDC":MAILTO:nancy@region10.net
END:VEVENT
END:VCALENDAR