BEGIN:VCALENDAR
VERSION:2.0
PRODID:-//Region 10 Colorado - ECPv6.15.20//NONSGML v1.0//EN
CALSCALE:GREGORIAN
METHOD:PUBLISH
X-WR-CALNAME:Region 10 Colorado
X-ORIGINAL-URL:https://region10.net
X-WR-CALDESC:Events for Region 10 Colorado
REFRESH-INTERVAL;VALUE=DURATION:PT1H
X-Robots-Tag:noindex
X-PUBLISHED-TTL:PT1H
BEGIN:VTIMEZONE
TZID:America/Denver
BEGIN:DAYLIGHT
TZOFFSETFROM:-0700
TZOFFSETTO:-0600
TZNAME:MDT
DTSTART:20240310T090000
END:DAYLIGHT
BEGIN:STANDARD
TZOFFSETFROM:-0600
TZOFFSETTO:-0700
TZNAME:MST
DTSTART:20241103T080000
END:STANDARD
BEGIN:DAYLIGHT
TZOFFSETFROM:-0700
TZOFFSETTO:-0600
TZNAME:MDT
DTSTART:20250309T090000
END:DAYLIGHT
BEGIN:STANDARD
TZOFFSETFROM:-0600
TZOFFSETTO:-0700
TZNAME:MST
DTSTART:20251102T080000
END:STANDARD
BEGIN:DAYLIGHT
TZOFFSETFROM:-0700
TZOFFSETTO:-0600
TZNAME:MDT
DTSTART:20260308T090000
END:DAYLIGHT
BEGIN:STANDARD
TZOFFSETFROM:-0600
TZOFFSETTO:-0700
TZNAME:MST
DTSTART:20261101T080000
END:STANDARD
END:VTIMEZONE
BEGIN:VEVENT
DTSTART;TZID=America/Denver:20250422T090000
DTEND;TZID=America/Denver:20250422T100000
DTSTAMP:20260420T183106
CREATED:20250320T164401Z
LAST-MODIFIED:20250320T164401Z
UID:10000224-1745312400-1745316000@region10.net
SUMMARY:How to Launch Your Business: A Comprehensive Checklist
DESCRIPTION:How to Launch Your Business: A Comprehensive Checklist\n\n\nThinking about starting a business in Colorado? Join us to learn what is required by state and local officials to get started. This class is for those who have already decided that entrepreneurship is right for them as well as determined their business idea and the feasibility of it. We will work our way through a concrete and concise checklist for the logistics of how to get your business up and running and where to go from there! \n  \nTopics include: \n* Trade name search \n* Legal structure selection \n* State registration \n* Licensing requirements \n* Business plan over view \n* Enterprise Zone Tax Credits \n* Human Resources \n  \nThis class is part of the Startup Track\, an SBDC webinar series that begins with idea validation and ends with strategic business planning and next steps for profitability and growth. This webinar will be presented on Zoom. Please register to receive the link to join. \nIf you do not intend to show up to the live version of this class and are signing up in order to receive the recording afterwards\, please register for the On-Demand version of this class instead: How to Launch Your Business (on-demand) \n  \nSpeaker(s): Callie Koch\, West Central SBDC Program Manager \nCo-Sponsor(s): Region 10\, City of Montrose\, Town of Telluride CCAASE \n\nFee: No Cost \n\nHow to Launch Your Business: A Comprehensive Checklist\nwith Callie Koch\nTuesday\, April 22nd\, 9:00-10:00AM\nOnline\, no cost \nREGISTER TODAY!
URL:https://region10.net/event/how-to-launch-your-business-a-comprehensive-checklist-6/
LOCATION:Online\, 145 S Cascade Avenue\, Montrose\, CO 81401\, Montrose\, CO\, 81401
CATEGORIES:for business
ATTACH;FMTTYPE=image/jpeg:https://region10.net/wp-content/uploads/2024/02/R10_Email-Topic-Startup.jpg
ORGANIZER;CN="West Central SBDC":MAILTO:nancy@region10.net
END:VEVENT
BEGIN:VEVENT
DTSTART;TZID=America/Denver:20250423T100000
DTEND;TZID=America/Denver:20250423T110000
DTSTAMP:20260420T183106
CREATED:20250320T170237Z
LAST-MODIFIED:20250320T170237Z
UID:10000228-1745402400-1745406000@region10.net
SUMMARY:Grow with Google: E-commerce Excellence: Unlocking Revenue Streams and Reach
DESCRIPTION:Grow with Google: E-commerce Excellence: Unlocking Revenue Streams and Reach\n\nThis training provides ecommerce businesses with the strategies and tools to increase revenue and expand their reach. Topics covered include website optimization\, effective marketing campaigns\, social media engagement\, customer service and retention\, and data analytics. This training is designed to help ecommerce businesses thrive and succeed in a competitive online marketplace. \nMeet Our Facilitator: Maria Elena Duron\nMaria is a speaker for the Grow with Google partner program. She helps businesses profitably harness their personal brand\, content\, and referral marketing. Her wide range of clients includes hotels\, restaurants\, inventors\, authors\, and web series creators. \nMaria is a guest lecturer at the University of Texas SBDC\, editor-in-chief of the award winning Personal Branding Blog\, and a contributing columnist for publications like Business Insider\, American Business Journal\, Fox Business\, US News & World Report\, Entrepreneur\, The Huffington Post\, and The Young Entrepreneurs Council. Maria was awarded the Texas Governor’s Excellence in Small Business Award and is the founder of #brandchat\, a recognized online chat focused on marketing and branding. She earned her B.B.A. in marketing from Texas Tech University and graduate work at Cornell University\, University of California in Davis\, and University of Phoenix. \n  \n\nCo-Sponsor(s): Region 10\, The Business Cultivator \nAdditional post-registration required via link provided. \n  \nFee: No Cost \nGrow with Google: E-commerce Excellence: Unlocking Revenue Streams and Reach\nwith Maria Elena Duron\nWednesday\, April 23rd\, 10:00am – 11:00AM\nOnline\, no cost \nREGISTER TODAY!
URL:https://region10.net/event/grow-with-google-e-commerce-excellence-unlocking-revenue-streams-and-reach/
LOCATION:Online\, 145 S Cascade Avenue\, Montrose\, CO 81401\, Montrose\, CO\, 81401
CATEGORIES:for business
ATTACH;FMTTYPE=image/jpeg:https://region10.net/wp-content/uploads/2024/02/R10_Email-Topic-Google-Trends.jpg
ORGANIZER;CN="West Central SBDC":MAILTO:nancy@region10.net
END:VEVENT
BEGIN:VEVENT
DTSTART;TZID=America/Denver:20250429T110000
DTEND;TZID=America/Denver:20250429T120000
DTSTAMP:20260420T183106
CREATED:20250320T162611Z
LAST-MODIFIED:20250320T162611Z
UID:10000222-1745924400-1745928000@region10.net
SUMMARY:Marketing Essentials: Core Messaging (Part 5 of 5)
DESCRIPTION:Marketing Essentials: Core Messaging (Part 5 of 5)\n\n\n\nThis 5-part series is for business owners who are new to marketing and need to learn the basics of marketing in order to develop a clear plan to effectively getting their product or service into the hands of customers. If you missed any part of this series\, recordings of prior classes will be available \nPart 5: Core Messaging (if this class is full please register for the on-demand version to receive the recording)\nCommunicate with clarity and impact. This workshop is designed for businesses\, marketers\, and entrepreneurs looking to craft compelling core messages that resonate with their audience and amplify their brand. \nWhat you’ll accomplish: \n\nIdentify your brand’s voice: Define your unique tone and style.\nCraft powerful messaging: Develop key statements that convey your value and purpose. We’ll cover both implicit messaging and explicit messaging.\nSimplify complex ideas: Communicate effectively across diverse audiences.\nAlign your team: Ensure consistency in messaging across all channels and stakeholders.\nEngage your audience: Create messages that inspire trust and action.\n\nTransform your communication—join us to create messaging that drives results! \nThis webinar will be presented on Zoom. Please register to receive the link to join. \n  \nMeet Our Facilitator: Rebecca Louzan\nRebecca Louzan is seasoned entrepreneur\, marketing strategist\, and workshop facilitator with over two decades of experience helping businesses craft meaningful and effective brand narratives. She brings a wealth of knowledge in brand positioning\, messaging\, and customer engagement to entrepreneurs\, small businesses\, and organizations seeking to strengthen their presence in competitive markets. \nAs founder of Wild Palomino\, an independent and woman owned marketing + sales strategy group\, Rebecca is known for her ability to distill complex ideas into clear\, impactful messaging that resonates with target audiences. She specializes in creating brand strategies that align with core values while driving business growth. Her workshops\, which focus on core messaging\, competitor analysis\, and positioning\, are regarded for their practical insights and interactive structure\, empowering participants to take immediate\, strategic action. \nIn her professional journey\, Rebecca has collaborated with businesses across diverse industries\, consistently delivering results-driven strategies and actionable solutions. Her approachable and dynamic teaching style has made her a sought-after facilitator for both in-person and online workshops. \n  \n\nSpeaker(s): Rebecca Louzan \nCo-Sponsor(s): Region 10\, City of Montrose\, Town of Telluride CCAASE \n\n\nFee: No Cost \n\nMarketing Essentials: Core Messaging (Part 5 of 5)\nwith Rebecca Louzan\nTuesday\, April 29th\, 11:00AM-12:00PM\nOnline\, no cost \nREGISTER TODAY!
URL:https://region10.net/event/marketing-essentials-core-messaging-part-5-of-5/
LOCATION:Online\, 145 S Cascade Avenue\, Montrose\, CO 81401\, Montrose\, CO\, 81401
CATEGORIES:for business
ATTACH;FMTTYPE=image/jpeg:https://region10.net/wp-content/uploads/2022/10/R10_Email-Program-Marketing.jpg
ORGANIZER;CN="West Central SBDC":MAILTO:nancy@region10.net
END:VEVENT
BEGIN:VEVENT
DTSTART;TZID=America/Denver:20250430T120000
DTEND;TZID=America/Denver:20250430T130000
DTSTAMP:20260420T183106
CREATED:20250320T163511Z
LAST-MODIFIED:20250410T201357Z
UID:10000223-1746014400-1746018000@region10.net
SUMMARY:Money Smart: Cash Flow
DESCRIPTION:Money Smart: Cash Flow\n\n\nThis Managing Cash Flow webinar helps business owners = to focus on cash flow management as an essential competency of business ownership. After completing this training\, the participants will be able to: \n*Describe the purpose of cash flow management in a start-up small business. \n*Assess a cash flow cycle and make some cash flow projections. \n*Describe how a cash flow statement can help assess and improve the financial health of a start-up. \n*Identify some ways to manage cash flow in terms of managing costs and potential income. \n*Identify ways to seek out expert technical assistance to improve cash flow management. \nThe SBDC cannot provide legal\, financial\, or taxation advice for your business specifically and this webinar will be focused on general information that is applicable to most small businesses. For specific insurance guidance\, please work with individually with an accountant who will be able to provide instruction and advice for your business. \nThis webinar will be presented on Zoom. Please register to receive the link to join. \n  \nSpeaker(s): Callie Koch\, West Central SBDC Program Manager \nCo-Sponsor(s): Region 10\, City of Montrose \n\nFee: No Cost \n\nMoney Smart: Cash Flow\nwith Callie Koch\nWednesday\, April 30th\, 12:00-1:00PM\nOnline\, no cost \nREGISTER TODAY!
URL:https://region10.net/event/money-smart-cash-flow/
LOCATION:Online
CATEGORIES:for business
ATTACH;FMTTYPE=image/jpeg:https://region10.net/wp-content/uploads/2023/10/R10_Email-Topic-Accounting.jpg
ORGANIZER;CN="West Central SBDC":MAILTO:nancy@region10.net
END:VEVENT
END:VCALENDAR