BEGIN:VCALENDAR
VERSION:2.0
PRODID:-//Region 10 Colorado - ECPv6.15.20//NONSGML v1.0//EN
CALSCALE:GREGORIAN
METHOD:PUBLISH
X-ORIGINAL-URL:https://region10.net
X-WR-CALDESC:Events for Region 10 Colorado
REFRESH-INTERVAL;VALUE=DURATION:PT1H
X-Robots-Tag:noindex
X-PUBLISHED-TTL:PT1H
BEGIN:VTIMEZONE
TZID:America/Denver
BEGIN:DAYLIGHT
TZOFFSETFROM:-0700
TZOFFSETTO:-0600
TZNAME:MDT
DTSTART:20240310T090000
END:DAYLIGHT
BEGIN:STANDARD
TZOFFSETFROM:-0600
TZOFFSETTO:-0700
TZNAME:MST
DTSTART:20241103T080000
END:STANDARD
BEGIN:DAYLIGHT
TZOFFSETFROM:-0700
TZOFFSETTO:-0600
TZNAME:MDT
DTSTART:20250309T090000
END:DAYLIGHT
BEGIN:STANDARD
TZOFFSETFROM:-0600
TZOFFSETTO:-0700
TZNAME:MST
DTSTART:20251102T080000
END:STANDARD
BEGIN:DAYLIGHT
TZOFFSETFROM:-0700
TZOFFSETTO:-0600
TZNAME:MDT
DTSTART:20260308T090000
END:DAYLIGHT
BEGIN:STANDARD
TZOFFSETFROM:-0600
TZOFFSETTO:-0700
TZNAME:MST
DTSTART:20261101T080000
END:STANDARD
END:VTIMEZONE
BEGIN:VEVENT
DTSTART;TZID=America/Denver:20250507T123000
DTEND;TZID=America/Denver:20250507T133000
DTSTAMP:20260420T170052
CREATED:20250410T210033Z
LAST-MODIFIED:20250410T210033Z
UID:10000232-1746621000-1746624600@region10.net
SUMMARY:Six MORE Things Everyone Should Know About Contracts
DESCRIPTION:Six MORE Things Everyone Should Know About Contracts\n\n\nThis class is a follow up from our March class and will explore 6 additional things everyone should know when entering a contract. A recording of the first part can be found here \nAre you a small business owner who’s ever felt overwhelmed or confused by contracts? Do you sign agreements without fully understanding the implications? \nContracts are vital for businesses to interact with employees\, outside contractors\, and to provide services. This class will explore 6 additional things everyone should know when entering a contract such as termination\, modification\, and assignment. This class will demystify the world of contracts and equip you with the essential knowledge you need to protect your business. \nAt some point in the life of your business\, you will probably be faced with having to create or review a contract that will play a role in the operations of your business. Colorado attorney\, Will Edwards\, is going to help understand best practices for handling contracts as a small business owner. \nMeet Our Facilitator: William Edwards\nWe will be joined by Colorado attorney\, William Edwards\, to discuss what every business owner should know about contracts. Will is a business attorney with offices in Carbondale and Gunnison\, Colorado. Will advises a wide range of business in his practice\, including startups\, family-owned businesses\, and privately held\, mid-market businesses operating in multiple states. His practice focuses on business formation\, contracts\, M&A/transactions\, real estate\, and fractional general counsel services. \n  \nSpeaker(s): William Edwards \nCallie Koch\, West Central SBDC Program Manager \nCo-Sponsor(s): Region 10\, The Business Cultivator\, West Central SBDC \n\nFee: No Cost \n\nSix MORE Things Everyone Should Know About Contracts\nwith William Edwards\nWednesday\, May 7th\, 12:30-1:30PM\nOnline\, no cost \nREGISTER TODAY!
URL:https://region10.net/event/six-more-things-everyone-should-know-about-contracts/
LOCATION:Online
CATEGORIES:for business
ATTACH;FMTTYPE=image/jpeg:https://region10.net/wp-content/uploads/2024/02/R10_Email-Topic-Startup.jpg
ORGANIZER;CN="West Central SBDC":MAILTO:nancy@region10.net
END:VEVENT
BEGIN:VEVENT
DTSTART;TZID=America/Denver:20250522T120000
DTEND;TZID=America/Denver:20250522T130000
DTSTAMP:20260420T170052
CREATED:20250410T203940Z
LAST-MODIFIED:20250410T203940Z
UID:10000231-1747915200-1747918800@region10.net
SUMMARY:How to Launch Your Business: A Comprehensive Checklist
DESCRIPTION:How to Launch Your Business: A Comprehensive Checklist\n\n\nThinking about starting a business in Colorado? Join us to learn what is required by state and local officials to get started. This class is for those who have already decided that entrepreneurship is right for them as well as determined their business idea and the feasibility of it. We will work our way through a concrete and concise checklist for the logistics of how to get your business up and running and where to go from there! \n  \nTopics include: \n* Trade name search \n* Legal structure selection \n* State registration \n* Licensing requirements \n* Business plan over view \n* Enterprise Zone Tax Credits \n* Human Resources \n  \nThis class is part of the Startup Track\, an SBDC webinar series that begins with idea validation and ends with strategic business planning and next steps for profitability and growth. \n  \nThis webinar will be presented on Zoom. Please register to receive the link to join. \n  \nIf you do not intend to show up to the live version of this class and are signing up in order to receive the recording afterwards\, please register for the On-Demand version of this class instead: How to Launch Your Business (on-demand) \n  \nSpeaker(s): Callie Koch\, West Central SBDC Program Manager \nCo-Sponsor(s): Region 10\, City of Montrose\, Town of Telluride CCAASE \n\nFee: No Cost \n\nHow to Launch Your Business: A Comprehensive Checklist\nwith Callie Koch\nThursday\, May 22nd\, 12:00-1:00PM\nOnline\, no cost \nREGISTER TODAY!
URL:https://region10.net/event/how-to-launch-your-business-a-comprehensive-checklist-7/
LOCATION:Online
CATEGORIES:for business
ATTACH;FMTTYPE=image/jpeg:https://region10.net/wp-content/uploads/2024/02/R10_Email-Topic-Startup.jpg
ORGANIZER;CN="West Central SBDC":MAILTO:nancy@region10.net
END:VEVENT
BEGIN:VEVENT
DTSTART;TZID=America/Denver:20250528T120000
DTEND;TZID=America/Denver:20250528T130000
DTSTAMP:20260420T170052
CREATED:20250410T202446Z
LAST-MODIFIED:20250410T202446Z
UID:10000229-1748433600-1748437200@region10.net
SUMMARY:Money Smart: Banking for Small Businesses
DESCRIPTION:Money Smart: Banking for Small Businesses\n\n\nBanking services change at the fast pace of technological advances. Therefore\, entrepreneurs need to consider building relationships with their financial institutions to ensure that they can keep up with these changes and understand how to choose the right products and services for their business. A good relationship with your banker can help them better understand your business operations and needs. This can help your banker better advise you about obtaining and building credit\, maximizing the bank’s benefits and resources\, and leveraging the banker’s extensive knowledge and contacts. \nInformation will include: \n*The benefts of building effective long-term relationships with bankers (branch managers and lenders) and business advisors \n*Factors to consider when selecting a financial institution \n*Features\, advantages\, and risks associated with the financial services and products under consideration \n*Types of small business financing options and lenders \n*Factors to consider when evaluating financing options \n*Ways to improve their chances of getting a loan\, including building a strong personal and business credit history\, keeping accurate business records\, and understanding the Five C’s of Credit \n*Ways to recognize and avoid small business fraud\, scams\, and cybersecurity risks \nThe SBDC cannot provide legal\, financial\, or taxation advice for your business specifically and this webinar will be focused on general information that is applicable to most small businesses. For specific taxation guidance\, please work with individually with an accountant who will be able to provide instruction and advice for your business. \nThis webinar will be presented on Zoom. Please register to receive the link to join. \n  \nSpeaker(s): Callie Koch\, West Central SBDC Program Manager \nCo-Sponsor(s): Region 10\, City of Montrose \n\nFee: No Cost \n\nMoney Smart: Banking for Small Businesses\nwith Callie Koch\nWednesday\, May 28th\, 12:00-1:00PM\nOnline\, no cost \nREGISTER TODAY!
URL:https://region10.net/event/money-smart-banking-for-small-businesses/
LOCATION:Online\, 145 S Cascade Avenue\, Montrose\, CO 81401\, Montrose\, CO\, 81401
CATEGORIES:for business
ATTACH;FMTTYPE=image/jpeg:https://region10.net/wp-content/uploads/2023/10/R10_Email-Topic-Accounting.jpg
ORGANIZER;CN="West Central SBDC":MAILTO:nancy@region10.net
END:VEVENT
END:VCALENDAR