BEGIN:VCALENDAR
VERSION:2.0
PRODID:-//Region 10 Colorado - ECPv6.15.20//NONSGML v1.0//EN
CALSCALE:GREGORIAN
METHOD:PUBLISH
X-WR-CALNAME:Region 10 Colorado
X-ORIGINAL-URL:https://region10.net
X-WR-CALDESC:Events for Region 10 Colorado
REFRESH-INTERVAL;VALUE=DURATION:PT1H
X-Robots-Tag:noindex
X-PUBLISHED-TTL:PT1H
BEGIN:VTIMEZONE
TZID:America/Denver
BEGIN:DAYLIGHT
TZOFFSETFROM:-0700
TZOFFSETTO:-0600
TZNAME:MDT
DTSTART:20220313T090000
END:DAYLIGHT
BEGIN:STANDARD
TZOFFSETFROM:-0600
TZOFFSETTO:-0700
TZNAME:MST
DTSTART:20221106T080000
END:STANDARD
BEGIN:DAYLIGHT
TZOFFSETFROM:-0700
TZOFFSETTO:-0600
TZNAME:MDT
DTSTART:20230312T090000
END:DAYLIGHT
BEGIN:STANDARD
TZOFFSETFROM:-0600
TZOFFSETTO:-0700
TZNAME:MST
DTSTART:20231105T080000
END:STANDARD
BEGIN:DAYLIGHT
TZOFFSETFROM:-0700
TZOFFSETTO:-0600
TZNAME:MDT
DTSTART:20240310T090000
END:DAYLIGHT
BEGIN:STANDARD
TZOFFSETFROM:-0600
TZOFFSETTO:-0700
TZNAME:MST
DTSTART:20241103T080000
END:STANDARD
END:VTIMEZONE
BEGIN:VEVENT
DTSTART;TZID=America/Denver:20230831T170000
DTEND;TZID=America/Denver:20230831T190000
DTSTAMP:20260420T102241
CREATED:20230724T152928Z
LAST-MODIFIED:20230831T215412Z
UID:10000028-1693501200-1693508400@region10.net
SUMMARY:Food Truck Thursday
DESCRIPTION:It’s that time again! Join us at The Business Cultivator for #FoodTruckThursdays\, Thursday August 31st\, 5-7 pm.⁠\n⁠\nSatisfy your cravings with a mouthwatering selection of gourmet eats from the best food trucks in town! From tantalizing tacos to colorful Cajun\, we’ve got it all covered. Bring your friends and family for a delightful evening of good food\, great company\, and a lot of fun! See you there! Featuring Baan Thai\, Snowy Colorado\, and Mississippi Poundcakes. At the Business Cultivator – 300 Hap Court\, Olathe\, CO. \nContact Michelle Meyers for more information: mmeyers@region10.net
URL:https://region10.net/event/food-truck-thursday/
LOCATION:The Business Cultivator\, 300 Hap Court\, Olathe\, CO\, 81425\, United States
CATEGORIES:for business,for community
ATTACH;FMTTYPE=image/jpeg:https://region10.net/wp-content/uploads/2023/07/R10_BC-Food-Truck-Thursdays-1-scaled.jpg
ORGANIZER;CN="The Business Cultivator":MAILTO:mmeyers@region10.net
END:VEVENT
BEGIN:VEVENT
DTSTART;TZID=America/Denver:20230719T170000
DTEND;TZID=America/Denver:20230719T180000
DTSTAMP:20260420T102241
CREATED:20230718T232228Z
LAST-MODIFIED:20230718T232551Z
UID:10000027-1689786000-1689789600@region10.net
SUMMARY:Entrepreneurial Meetup
DESCRIPTION:If you’re looking for an opportunity to connect with like-minded and motivated souls\, join us for a convivial hour to convene\, connect\, network\, and share stories with others in the small business ecosystem and discover opportunities and solutions across industries in our region.
URL:https://region10.net/event/entrepreneurial-meetup/
LOCATION:Pomoma Brewing Company\, 830 N Townsend\, Montrose\, CO\, 81401
CATEGORIES:for business
ATTACH;FMTTYPE=image/jpeg:https://region10.net/wp-content/uploads/2023/07/Entrepreneurial-Meetup-graphic.jpg
ORGANIZER;CN="The Business Cultivator":MAILTO:mmeyers@region10.net
END:VEVENT
END:VCALENDAR